Workbook
Name _00Al3: #REF!
Name _00AlC: #REF!
Name _00AuD: #REF!
Name _00AuDollar: #REF!
Name _00Cu3: #REF!
Name _00CuC: #REF!
Name _00Ni3: #REF!
Name _00NiC: #REF!
Name _00Pb3: #REF!
Name _00PbC: #REF!
Name _00Sn3: #REF!
Name _00SnC: #REF!
Name _00Zn3: #REF!
Name _00ZnC: #REF!
Name _01Aa3: #REF!
Name _01AaC: #REF!
Name _01Al3: #REF!
Name _01AlC: #REF!
Name _01AuD: #REF!
Name _01Cu3: #REF!
Name _01CuC: #REF!
Name _01Ni3: #REF!
Name _01NiC: #REF!
Name _01Pb3: #REF!
Name _01PbC: #REF!
Name _01Sn3: #REF!
Name _01SnC: #REF!
Name _01Zn3: #REF!
Name _01ZnC: #REF!
Name _02Aa3: #REF!
Name _02AaC: #REF!
Name _02Al3: #REF!
Name _02AlC: #REF!
Name _02AuD: #REF!
Name _02Cu3: #REF!
Name _02CuC: #REF!
Name _02EUR: #REF!
Name _02Na3: #REF!
Name _02NaC: #REF!
Name _02Ni3: #REF!
Name _02NiC: #REF!
Name _02Pb3: #REF!
Name _02PbC: #REF!
Name _02Sn3: #REF!
Name _02SnC: #REF!
Name _02Zn3: #REF!
Name _02ZnC: #REF!
Name _03Aa3: #REF!
Name _03AaC: #REF!
Name _03Al3: #REF!
Name _03AlC: #REF!
Name _03AuD: #REF!
Name _03Cu3: #REF!
Name _03CuC: #REF!
Name _03EUR: #REF!
Name _03Na3: #REF!
Name _03NaC: #REF!
Name _03Ni3: #REF!
Name _03NiC: #REF!
Name _03Pb3: #REF!

Sheet Pb 가격및재고
A1: DATE | F1: STOCK In & Out | H1: C/W | J1: 거래량 | K1: CASH | L1: 3-Month | M1: Spread | N1: 월평균 | O1: 년평균 | P1: SHMET(중국) | V1: 월평균 | W1: USD환산 | X1: SHMET/LME Ratio
B2: Asia | C2: USA | D2: EUROPE | E2: TOTAL | F2: IN | G2: OUT | H2: Qty | I2: Per | J2: (Lot) | P2: SHMET(중국) | Q2: CROSS RATE | U2: 수출세
A3: 35800 | B3: 0 | E3: 111300 | K3: 565 | L3: 565.5
A4: 35801 | B4: 0 | E4: 111425 | K4: 545 | L4: 555 | M4: =L4-K4 -> 10
A5: 35802 | B5: 0 | E5: 111325 | K5: 549 | L5: 555 | M5: =+K5-K4 -> 4
A6: 35803 | B6: 0 | E6: 111350 | K6: 571 | L6: 573.5 | M6: =+K6-K5 -> 22
A7: 35804 | B7: 0 | E7: 111325 | K7: 580 | L7: 582 | M7: =+K7-K6 -> 9
A8: 35807 | B8: 0 | E8: 111075 | K8: 548 | L8: 554 | M8: =+K8-K7 -> -32
A9: 35808 | B9: 0 | E9: 112025 | K9: 543 | L9: 548 | M9: =+K9-K8 -> -5
A10: 35809 | B10: 0 | E10: 111650 | K10: 531 | L10: 536 | M10: =+K10-K9 -> -12
A11: 35810 | B11: 0 | E11: 111375 | K11: 498 | L11: 505 | M11: =+K11-K10 -> -33
A12: 35811 | B12: 0 | E12: 111350 | K12: 520 | L12: 524.5 | M12: =+K12-K11 -> 22
A13: 35814 | B13: 0 | E13: 110825 | K13: 504 | L13: 514 | M13: =+K13-K12 -> -16
A14: 35815 | B14: 0 | E14: 110750 | K14: 510 | L14: 519 | M14: =+K14-K13 -> 6
A15: 35816 | B15: 0 | E15: 110725 | K15: 534.5 | L15: 538 | M15: =+K15-K14 -> 24.5
A16: 35817 | B16: 0 | E16: 110550 | K16: 520 | L16: 525 | M16: =+K16-K15 -> -14.5
... A463: 36461 | B463: 0 | E463: 170850 | K463: 493 | L463: 506 | M463: =+K463-K462 -> 1
A464: 36462 | B464: 0 | E464: 171225 | K464: 494.5 | L464: 505.5 | M464: =L464-K464 -> 11
A465: 36465 | B465: 0 | E465: 171150 | K465: 491 | L465: 503.5 | M465: =L465-K465 -> 12.5
A466: 36466 | B466: 0 | E466: 171125 | K466: 487.5 | L466: 498 | M466: =L466-K466 -> 10.5
A467: 36467 | B467: 0 | E467: 171475 | K467: 484.5 | L467: 495 | M467: =L467-K467 -> 10.5
A468: 36468 | B468: 0 | E468: 171400 | K468: 484.5 | L468: 495 | M468: =L468-K468 -> 10.5
A469: 36469 | B469: 0 | E469: 171300 | K469: 481.5 | L469: 491.5 | M469: =L469-K469 -> 10
A470: 36472 | B470: 0 | E470: 171700 | K470: 480 | L470: 489 | M470: =L470-K470 -> 9
A471: 36473 | B471: 0 | E471: 174275 | K471: 472.5 | L471: 482 | M471: =L471-K471 -> 9.5
A472: 36474 | B472: 0 | E472: 172975 | K472: 476 | L472: 486 | M472: =L472-K472 -> 10
A473: 36475 | B473: 0 | E473: 172875 | K473: 474.5 | L473: 485 | M473: =L473-K473 -> 10.5
A474: 36476 | B474: 0 | E474: 172700 | K474: 471.5 | L474: 483 | M474: =L474-K474 -> 11.5
A475: 36479 | B475: 0 | E475: 171450 | K475: 463 | L475: 477 | M475: =L475-K475 -> 14
... A758: 36889 | B758: 0 | E758: 130125 | K758: 471 | L758: 484 | M758: =L758-K758 -> 13
A759: 36893 | B759: 76375 | C759: 7875 | D759: =E759-(#REF!+C759) -> #REF! | E759: 130650 | K759: 467 | L759: 482 | M759: =L759-K759 -> 15
A760: 36894 | B760: 76875 | C760: 7875 | D760: =E760-(#REF!+C760) -> #REF! | E760: 131150 | K760: 472 | L760: 485 | M760: =L760-K760 -> 13
A761: 36895 | B761: 76850 | C761: 7875 | D761: =E761-(#REF!+C761) -> #REF! | E761: 131075 | K761: 481.5 | L761: 495 | M761: =L761-K761 -> 13.5
A762: 36896 | B762: 76850 | C762: 7875 | D762: =E762-(#REF!+C762) -> #REF! | E762: 130875 | K762: 471 | L762: 485 | M762: =L762-K762 -> 14
A763: 36899 | B763: 76850 | C763: 7875 | D763: =E763-(#REF!+C763) -> #REF! | E763: 130800 | K763: 467 | L763: 482 | M763: =L763-K763 -> 15
A764: 36900 | B764: 76625 | C764: 7875 | D764: =E764-(#REF!+C764) -> #REF! | E764: 130450 | K764: 477.5 | L764: 492 | M764: =L764-K764 -> 14.5
A765: 36901 | B765: 76575 | C765: 7875 | D765: =E765-(#REF!+C765) -> #REF! | E765: 130175 | K765: 473 | L765: 486 | M765: =L765-K765 -> 13
A766: 36902 | B766: 76425 | C766: 7875 | D766: =E766-(#REF!+C766) -> #REF! | E766: 129875 | K766: 466 | L766: 481 | M766: =L766-K766 -> 15
A767: 36903 | B767: 76150 | C767: 7875 | D767: =E767-(#REF!+C767) -> #REF! | E767: 129475 | K767: 467.5 | L767: 479 | M767: =L767-K767 -> 11.5
A768: 36906 | B768: 76050 | C768: 7875 | D768: =E768-(#REF!+C768) -> #REF! | E768: 129300 | K768: 466.5 | L768: 480.5 | M768: =L768-K768 -> 14
A769: 36907 | B769: 76075 | C769: 7875 | D769: =E769-(#REF!+C769) -> #REF! | E769: 129250 | K769: 453 | L769: 469 | M769: =L769-K769 -> 16
A770: 36908 | B770: 75675 | C770: 7875 | D770: =E770-(#REF!+C770) -> #REF! | E770: 128750 | K770: 453.5 | L770: 468 | M770: =L770-K770 -> 14.5
... A1266: 37631 | B1266: 47300 | C1266: 121100 | D1266: =E1266-(#REF!+C1266) -> #REF! | E1266: 183250 | K1266: 438 | L1266: 448 | M1266: =L1266-K1266 -> 10
A1267: 37634 | B1267: 43950 | C1267: 121100 | D1267: =E1267-(#REF!+C1267) -> #REF! | E1267: =E1268+125 -> 182900 | K1267: 431 | L1267: 440 | M1267: =L1267-K1267 -> 9
A1268: 37635 | B1268: 43825 | C1268: 121100 | D1268: =E1268-(#REF!+C1268) -> #REF! | E1268: 182775 | K1268: 433 | L1268: 444 | M1268: =L1268-K1268 -> 11
A1269: 37636 | B1269: 49325 | C1269: 121100 | D1269: =E1269-(#REF!+C1269) -> #REF! | E1269: 185275 | K1269: 435 | L1269: 449 | M1269: =L1269-K1269 -> 14
A1270: 37637 | B1270: 49075 | C1270: 121100 | D1270: =E1270-(#REF!+C1270) -> #REF! | E1270: 185025 | K1270: 443 | L1270: 456 | M1270: =L1270-K1270 -> 13
A1271: 37638 | B1271: 49025 | C1271: 121100 | D1271: =E1271-(#REF!+C1271) -> #REF! | E1271: 184925 | K1271: 447 | L1271: 457 | M1271: =L1271-K1271 -> 10
A1272: 37641 | B1272: 48900 | C1272: 121100 | D1272: =E1272-(#REF!+C1272) -> #REF! | E1272: 184750 | K1272: 455.5 | L1272: 465 | M1272: =L1272-K1272 -> 9.5
A1273: 37642 | B1273: 48850 | C1273: 121100 | D1273: =E1273-(#REF!+C1273) -> #REF! | E1273: 184650 | K1273: 457.5 | L1273: 468.5 | M1273: =L1273-K1273 -> 11
A1274: 37643 | B1274: 48850 | C1274: 121100 | D1274: =E1274-(#REF!+C1274) -> #REF! | E1274: 184650 | K1274: 457 | L1274: 467.5 | M1274: =L1274-K1274 -> 10.5
A1275: 37644 | B1275: 48850 | C1275: 121125 | D1275: =E1275-(#REF!+C1275) -> #REF! | E1275: 184650 | K1275: 463 | L1275: 472 | M1275: =L1275-K1275 -> 9
A1276: 37645 | B1276: 48850 | C1276: 121125 | D1276: =E1276-(#REF!+C1276) -> #REF! | E1276: 184650 | K1276: 464 | L1276: 472 | M1276: =L1276-K1276 -> 8
A1277: 37655 | B1277: 45850 | C1277: 121700 | D1277: =E1277-(#REF!+C1277) -> #REF! | E1277: 182025 | K1277: 469 | L1277: 480 | M1277: =L1277-K1277 -> 11
A1278: 37656 | B1278: 46350 | C1278: 121700 | D1278: =E1278-(#REF!+C1278) -> #REF! | E1278: 182300 | K1278: 467 | L1278: 479 | M1278: =L1278-K1278 -> 12
A1279: 37657 | B1279: 46350 | C1279: 121975 | D1279: =E1279-(#REF!+C1279) -> #REF! | E1279: 182375 | K1279: 467 | L1279: 477.5 | M1279: =L1279-K1279 -> 10.5
... A1702: 38252 | B1702: 23550 | C1702: 14975 | D1702: =E1702-(#REF!+C1702) -> #REF! | E1702: 52750 | K1702: 962 | L1702: 908.5 | M1702: =L1702-K1702 -> -53.5
A1703: 38253 | B1703: 23550 | C1703: 14875 | D1703: =E1703-(#REF!+C1703) -> #REF! | E1703: 52650 | K1703: 955.5 | L1703: 904 | M1703: =L1703-K1703 -> -51.5 | P1703: 9450 | Q1703: 0.1208 | U1703: 0 | W1703: =(P1703*Q1703)*(1+U1703) -> 1141.56
A1704: 38254 | B1704: 24050 | C1704: 14750 | D1704: =E1704-(#REF!+C1704) -> #REF! | E1704: 53025 | K1704: 969 | L1704: 915 | M1704: =L1704-K1704 -> -54 | P1704: 9450 | Q1704: 0.1208 | U1704: 0 | W1704: =(P1704*Q1704)*(1+U1704) -> 1141.56
A1705: 38257 | B1705: 23950 | C1705: 14650 | D1705: =E1705-(#REF!+C1705) -> #REF! | E1705: 52825 | K1705: 980 | L1705: 929 | M1705: =L1705-K1705 -> -51 | P1705: 9450 | Q1705: 0.1208 | U1705: 0 | W1705: =(P1705*Q1705)*(1+U1705) -> 1141.56
A1706: 38258 | B1706: 24150 | C1706: 14550 | D1706: =E1706-(#REF!+C1706) -> #REF! | E1706: 52925 | K1706: 987 | L1706: 934 | M1706: =L1706-K1706 -> -53 | P1706: 9500 | Q1706: 0.1208 | U1706: 0 | W1706: =(P1706*Q1706)*(1+U1706) -> 1147.6
A1707: 38259 | B1707: 24650 | C1707: 14375 | D1707: =E1707-(#REF!+C1707) -> #REF! | E1707: 53250 | K1707: 948 | L1707: 909 | M1707: =L1707-K1707 -> -39 | P1707: 9450 | Q1707: 0.1208 | U1707: 0 | W1707: =(P1707*Q1707)*(1+U1707) -> 1141.56
A1708: 38260 | B1708: 25000 | C1708: 14125 | D1708: =E1708-(#REF!+C1708) -> #REF! | E1708: 53350 | K1708: 964 | L1708: 926 | M1708: =L1708-K1708 -> -38 | P1708: 9450 | Q1708: 0.1208 | U1708: 0 | W1708: =(P1708*Q1708)*(1+U1708) -> 1141.56
A1709: 38261 | B1709: 25000 | C1709: 13850 | D1709: =E1709-(#REF!+C1709) -> #REF! | E1709: 53075 | K1709: 982 | L1709: 925 | M1709: =L1709-K1709 -> -57 | P1709: 9450 | Q1709: 0.1208 | U1709: 0 | W1709: =(P1709*Q1709)*(1+U1709) -> 1141.56
A1710: 38264 | B1710: 24950 | C1710: 13600 | D1710: =E1710-(#REF!+C1710) -> #REF! | E1710: 52775 | K1710: 966 | L1710: 919 | M1710: =L1710-K1710 -> -47 | P1710: 9450 | Q1710: 0.1208 | U1710: 0 | W1710: =(P1710*Q1710)*(1+U1710) -> 1141.56
A1711: 38265 | B1711: 24425 | C1711: 13525 | D1711: =E1711-(#REF!+C1711) -> #REF! | E1711: 52050 | K1711: 980 | L1711: 939 | M1711: =L1711-K1711 -> -41 | P1711: 9500 | Q1711: 0.1208 | U1711: 0 | W1711: =(P1711*Q1711)*(1+U1711) -> 1147.6
A1712: 38266 | B1712: 24425 | C1712: 13325 | D1712: =E1712-(#REF!+C1712) -> #REF! | E1712: 51525 | K1712: 1012 | L1712: 947 | M1712: =L1712-K1712 -> -65 | P1712: 9500 | Q1712: 0.1208 | U1712: 0 | W1712: =(P1712*Q1712)*(1+U1712) -> 1147.6
A1713: 38267 | B1713: 24400 | C1713: 13275 | D1713: =E1713-(#REF!+C1713) -> #REF! | E1713: 51450 | K1713: 1018 | L1713: 955.5 | M1713: =L1713-K1713 -> -62.5 | P1713: 9500 | Q1713: 0.1208 | U1713: 0 | W1713: =(P1713*Q1713)*(1+U1713) -> 1147.6
A1714: 38268 | B1714: 24375 | C1714: 13275 | D1714: =E1714-(#REF!+C1714) -> #REF! | E1714: 51425 | K1714: 985 | L1714: 955 | M1714: =L1714-K1714 -> -30 | P1714: 9650 | Q1714: 0.1208 | U1714: 0 | W1714: =(P1714*Q1714)*(1+U1714) -> 1165.72
... A1728: 38288 | B1728: 24625 | C1728: 12450 | D1728: =E1728-(#REF!+C1728) -> #REF! | E1728: 49700 | K1728: 875.5 | L1728: 851 | M1728: =L1728-K1728 -> -24.5 | P1728: 9575 | Q1728: 0.1208 | U1728: 0 | W1728: =(P1728*Q1728)*(1+U1728) -> 1156.66
A1729: 38289 | B1729: 24525 | C1729: 12450 | D1729: =E1729-(#REF!+C1729) -> #REF! | E1729: 49600 | K1729: 898.5 | L1729: 870.5 | M1729: =L1729-K1729 -> -28 | N1729: =AVERAGE(K1709:K1729) -> 932.7619 | P1729: 9575 | Q1729: 0.1208 | U1729: 0 | V1729: =AVERAGE(P1711,P1714:P1729) -> 9617.6471 | W1729: =(P1729*Q1729)*(1+U1729) -> 1156.66
A1730: 38292 | B1730: 24150 | C1730: 12425 | D1730: =E1730-(#REF!+C1730) -> #REF! | E1730: 49200 | K1730: 896 | L1730: 874 | M1730: =L1730-K1730 -> -22 | P1730: 9575 | Q1730: 0.1208 | U1730: 0 | W1730: =(P1730*Q1730)*(1+U1730) -> 1156.66
A1731: 38293 | B1731: 23875 | C1731: 12350 | D1731: =E1731-(#REF!+C1731) -> #REF! | E1731: 48850 | K1731: 902 | L1731: 880 | M1731: =L1731-K1731 -> -22 | P1731: 9550 | Q1731: 0.1208 | U1731: 0 | W1731: =(P1731*Q1731)*(1+U1731) -> 1153.64
A1732: 38294 | B1732: 23675 | C1732: 12350 | D1732: =E1732-(#REF!+C1732) -> #REF! | E1732: 48650 | K1732: 900 | L1732: 878 | M1732: =L1732-K1732 -> -22 | P1732: 9550 | Q1732: 0.1208 | U1732: 0 | W1732: =(P1732*Q1732)*(1+U1732) -> 1153.64
A1733: 38295 | B1733: 23575 | C1733: 12275 | D1733: =E1733-(#REF!+C1733) -> #REF! | E1733: 48475 | K1733: 942.5 | L1733: 919 | M1733: =L1733-K1733 -> -23.5 | P1733: 9525 | Q1733: 0.1208 | U1733: 0 | W1733: =(P1733*Q1733)*(1+U1733) -> 1150.62
A1734: 38296 | B1734: 23475 | C1734: 12225 | D1734: =E1734-(#REF!+C1734) -> #REF! | E1734: 48325 | K1734: 933 | L1734: 909.5 | M1734: =L1734-K1734 -> -23.5 | P1734: 9525 | Q1734: 0.1208 | U1734: 0 | W1734: =(P1734*Q1734)*(1+U1734) -> 1150.62
A1735: 38299 | B1735: 23325 | C1735: 12100 | D1735: =E1735-(#REF!+C1735) -> #REF! | E1735: 48050 | K1735: 976 | L1735: 949 | M1735: =L1735-K1735 -> -27 | P1735: 9525 | Q1735: 0.1208 | U1735: 0 | W1735: =(P1735*Q1735)*(1+U1735) -> 1150.62
A1736: 38300 | B1736: 23025 | C1736: 11775 | D1736: =E1736-(#REF!+C1736) -> #REF! | E1736: 47400 | K1736: 965 | L1736: 940 | M1736: =L1736-K1736 -> -25 | P1736: 9525 | Q1736: 0.1208 | U1736: 0 | W1736: =(P1736*Q1736)*(1+U1736) -> 1150.62
A1737: 38301 | B1737: 23025 | C1737: 11350 | D1737: =E1737-(#REF!+C1737) -> #REF! | E1737: 46975 | K1737: 961 | L1737: 938 | M1737: =L1737-K1737 -> -23 | P1737: 9500 | Q1737: 0.1208 | U1737: 0 | W1737: =(P1737*Q1737)*(1+U1737) -> 1147.6
A1738: 38302 | B1738: 23875 | C1738: 11175 | D1738: =E1738-(#REF!+C1738) -> #REF! | E1738: 47550 | K1738: 956 | L1738: 934 | M1738: =L1738-K1738 -> -22 | P1738: 9475 | Q1738: 0.1208 | U1738: 0 | W1738: =(P1738*Q1738)*(1+U1738) -> 1144.58
A1739: 38303 | B1739: 23875 | C1739: 10775 | D1739: =E1739-(#REF!+C1739) -> #REF! | E1739: 47050 | K1739: 971.5 | L1739: 948 | M1739: =L1739-K1739 -> -23.5 | P1739: 9500 | Q1739: 0.1208 | U1739: 0 | W1739: =(P1739*Q1739)*(1+U1739) -> 1147.6
A1740: 38306 | B1740: 23875 | C1740: 10750 | D1740: =E1740-(#REF!+C1740) -> #REF! | E1740: 46875 | K1740: 987 | L1740: 961 | M1740: =L1740-K1740 -> -26 | P1740: 9575 | Q1740: 0.1208 | U1740: 0 | W1740: =(P1740*Q1740)*(1+U1740) -> 1156.66
A1741: 38307 | B1741: 23875 | C1741: 10500 | D1741: =E1741-(#REF!+C1741) -> #REF! | E1741: 46575 | K1741: 980 | L1741: 957.5 | M1741: =L1741-K1741 -> -22.5 | P1741: 9525 | Q1741: 0.1208 | U1741: 0 | W1741: =(P1741*Q1741)*(1+U1741) -> 1150.62
... A1750: 38320 | B1750: 22175 | C1750: 8375 | D1750: =E1750-(#REF!+C1750) -> #REF! | E1750: 42200 | K1750: 988 | L1750: 959 | M1750: =L1750-K1750 -> -29 | P1750: 9560 | Q1750: 0.1208 | U1750: 0 | W1750: =(P1750*Q1750)*(1+U1750) -> 1154.848
A1751: 38321 | B1751: 21300 | C1751: 8375 | D1751: =E1751-(#REF!+C1751) -> #REF! | E1751: 41300 | K1751: 991 | L1751: 960 | M1751: =L1751-K1751 -> -31 | N1751: =AVERAGE(K1730:K1751) -> 967.79545 | P1751: 9570 | Q1751: 0.1208 | U1751: 0 | V1751: =AVERAGE(P1730:P1751) -> 9535.9091 | W1751: =(P1751*Q1751)*(1+U1751) -> 1156.056
A1752: 38322 | B1752: 23025 | C1752: 8275 | D1752: =E1752-(#REF!+C1752) -> #REF! | E1752: 42900 | K1752: 998 | L1752: 996 | M1752: =L1752-K1752 -> -2 | P1752: 9550 | Q1752: 0.1208 | U1752: 0 | W1752: =(P1752*Q1752)*(1+U1752) -> 1153.64
A1753: 38323 | B1753: 22950 | C1753: 8175 | D1753: =E1753-(#REF!+C1753) -> #REF! | E1753: 42725 | K1753: 988 | L1753: 958 | M1753: =L1753-K1753 -> -30 | P1753: 9500 | Q1753: 0.1208 | U1753: 0 | W1753: =(P1753*Q1753)*(1+U1753) -> 1147.6
A1754: 38324 | B1754: 22950 | C1754: 8000 | D1754: =E1754-(#REF!+C1754) -> #REF! | E1754: 42550 | K1754: 981 | L1754: 951 | M1754: =L1754-K1754 -> -30 | P1754: 9500 | Q1754: 0.1208 | U1754: 0 | W1754: =(P1754*Q1754)*(1+U1754) -> 1147.6
A1755: 38327 | B1755: 22950 | C1755: 7925 | D1755: =E1755-(#REF!+C1755) -> #REF! | E1755: 42450 | K1755: 975 | L1755: 947 | M1755: =L1755-K1755 -> -28 | P1755: 9500 | Q1755: 0.1208 | U1755: 0 | W1755: =(P1755*Q1755)*(1+U1755) -> 1147.6
A1756: 38328 | B1756: 22750 | C1756: 7775 | D1756: =E1756-(#REF!+C1756) -> #REF! | E1756: 42075 | K1756: 986.5 | L1756: 959 | M1756: =L1756-K1756 -> -27.5 | P1756: 9500 | Q1756: 0.1208 | U1756: 0 | W1756: =(P1756*Q1756)*(1+U1756) -> 1147.6
A1757: 38329 | B1757: 22750 | C1757: 7775 | D1757: =E1757-(#REF!+C1757) -> #REF! | E1757: 42050 | K1757: 966.5 | L1757: 937.5 | M1757: =L1757-K1757 -> -29 | P1757: 9500 | Q1757: 0.1208 | U1757: 0 | W1757: =(P1757*Q1757)*(1+U1757) -> 1147.6
A1758: 38330 | B1758: 22750 | C1758: 7750 | D1758: =E1758-(#REF!+C1758) -> #REF! | E1758: 42025 | K1758: 943 | L1758: 915 | M1758: =L1758-K1758 -> -28 | P1758: 9400 | Q1758: 0.1208 | U1758: 0 | W1758: =(P1758*Q1758)*(1+U1758) -> 1135.52
A1759: 38331 | B1759: 22700 | C1759: 7750 | D1759: =E1759-(#REF!+C1759) -> #REF! | E1759: 41850 | K1759: 960 | L1759: 913 | M1759: =L1759-K1759 -> -47 | P1759: 9400 | Q1759: 0.1208 | U1759: 0 | W1759: =(P1759*Q1759)*(1+U1759) -> 1135.52
A1760: 38334 | B1760: 22700 | C1760: 7750 | D1760: =E1760-(#REF!+C1760) -> #REF! | E1760: 41725 | K1760: 959 | L1760: 926 | M1760: =L1760-K1760 -> -33 | P1760: 9350 | Q1760: 0.1208 | U1760: 0 | W1760: =(P1760*Q1760)*(1+U1760) -> 1129.48
A1761: 38335 | B1761: 22600 | C1761: 7600 | D1761: =E1761-(#REF!+C1761) -> #REF! | E1761: 41350 | K1761: 970.5 | L1761: 937 | M1761: =L1761-K1761 -> -33.5 | P1761: 9400 | Q1761: 0.1208 | U1761: 0 | W1761: =(P1761*Q1761)*(1+U1761) -> 1135.52
A1762: 38336 | B1762: 22475 | C1762: 7500 | D1762: =E1762-(#REF!+C1762) -> #REF! | E1762: 41125 | K1762: 966 | L1762: 936 | M1762: =L1762-K1762 -> -30 | P1762: 9375 | Q1762: 0.1208 | U1762: 0 | W1762: =(P1762*Q1762)*(1+U1762) -> 1132.5
A1763: 38337 | B1763: 22475 | C1763: 7500 | D1763: =E1763-(#REF!+C1763) -> #REF! | E1763: 41125 | K1763: 959 | L1763: 937 | M1763: =L1763-K1763 -> -22 | P1763: 9375 | Q1763: 0.1208 | U1763: 0 | W1763: =(P1763*Q1763)*(1+U1763) -> 1132.5
... A1771: 38351 | B1771: 22775 | C1771: 7075 | D1771: =E1771-(#REF!+C1771) -> #REF! | E1771: 41000 | K1771: 991.5 | L1771: 959 | M1771: =L1771-K1771 -> -32.5 | P1771: 9325 | Q1771: 0.1208 | U1771: 0 | W1771: =(P1771*Q1771)*(1+U1771) -> 1126.46
A1772: 38352 | B1772: 22500 | C1772: 7050 | D1772: =E1772-(#REF!+C1772) -> #REF! | E1772: 40700 | K1772: 1056 | L1772: 1011 | M1772: =L1772-K1772 -> -45 | N1772: =AVERAGE(K1752:K1772) -> 974.90476 | P1772: 9500 | Q1772: 0.1208 | U1772: 0 | V1772: =AVERAGE(P1752:P1772) -> 9416.6667 | W1772: =(P1772*Q1772)*(1+U1772) -> 1147.6
A1773: 38356 | B1773: 22300 | C1773: 7050 | D1773: =E1773-(#REF!+C1773) -> #REF! | E1773: 40475 | K1773: 1000 | L1773: 980 | M1773: =L1773-K1773 -> -20 | P1773: 9475 | Q1773: 0.1208 | U1773: 0 | W1773: =(P1773*Q1773)*(1+U1773) -> 1144.58
...

Sheet Sb 안티모니
A1: 안티모니 99.65%
A2: DATE | B2: BUY | C2: SELL | D2: AVG | E2: 월AVG | F2: 년AVG | G2: 분기AVG | H2: 환율 | I2: Sb단가(KRW)
A3: 39084 | D3: 5350
A4: 39085 | D4: 5350
A5: 39086 | D5: 5350
A6: 39087 | D6: 5350
A7: 39090 | D7: 5350
A8: 39091 | D8: 5350
A9: 39092 | D9: 5350
A10: 39093 | D10: 5350
A11: 39094 | D11: 5350
A12: 39097 | D12: 5350
A13: 39098 | D13: 5350
A14: 39099 | D14: 5350
... A20: 39107 | D20: 5350
A21: 39108 | D21: 5350 | E21: =AVERAGE(D3:D21) -> 5350
A22: 39114 | D22: 5350
A23: 39115 | D23: 5350
A24: 39118 | D24: 5350
A25: 39119 | D25: 5350
A26: 39120 | D26: 5350
A27: 39121 | D27: 5350
A28: 39122 | D28: 5350
A29: 39125 | D29: 5350
A30: 39126 | D30: 5350
A31: 39127 | D31: 5350
A32: 39128 | D32: 5350
A33: 39129 | D33: 5350
... A40: 39140 | D40: 5450
A41: 39141 | D41: 5450 | E41: =AVERAGE(D22:D41) -> 5370
A42: 39142 | D42: 5450
A43: 39143 | D43: 5450
A44: 39146 | D44: 5450
A45: 39147 | D45: 5450
A46: 39148 | D46: 5450
A47: 39149 | D47: 5450
A48: 39150 | D48: 5450
A49: 39153 | D49: 5450
A50: 39154 | D50: 5475
A51: 39155 | D51: 5475
A52: 39156 | D52: 5475
A53: 39157 | D53: 5475
... A62: 39170 | D62: 5510
A63: 39171 | D63: 5510 | E63: =AVERAGE(D42:D63) -> 5475.4545 | G63: =AVERAGE(D3:D63) -> 5401.8033
A64: 39174 | B64: 5470 | C64: 5550 | D64: =AVERAGE(B64:C64) -> 5510
A65: 39175 | B65: 5470 | C65: 5550 | D65: =AVERAGE(B65:C65) -> 5510
A66: 39176 | B66: 5470 | C66: 5550 | D66: =AVERAGE(B66:C66) -> 5510
A67: 39177 | B67: 5470 | C67: 5550 | D67: =AVERAGE(B67:C67) -> 5510
A68: 39178 | B68: 휴장(Easter Holiday)
A69: 39181
A70: 39182 | B70: 5470 | C70: 5550 | D70: =AVERAGE(B70:C70) -> 5510
A71: 39183 | B71: 5470 | C71: 5550 | D71: =AVERAGE(B71:C71) -> 5510
A72: 39184 | B72: 5470 | C72: 5550 | D72: =AVERAGE(B72:C72) -> 5510
A73: 39185 | B73: 5470 | C73: 5550 | D73: =AVERAGE(B73:C73) -> 5510
A74: 39188 | B74: 5470 | C74: 5550 | D74: =AVERAGE(B74:C74) -> 5510
A75: 39189 | B75: 5470 | C75: 5550 | D75: =AVERAGE(B75:C75) -> 5510
A76: 39190 | B76: 5470 | C76: 5550 | D76: =AVERAGE(B76:C76) -> 5510
A77: 39191 | B77: 5470 | C77: 5550 | D77: =AVERAGE(B77:C77) -> 5510
A78: 39192 | B78: 5470 | C78: 5550 | D78: =AVERAGE(B78:C78) -> 5510
A79: 39195 | B79: 5470 | C79: 5550 | D79: =AVERAGE(B79:C79) -> 5510
A80: 39196 | B80: 5470 | C80: 5550 | D80: =AVERAGE(B80:C80) -> 5510
A81: 39197 | B81: 5470 | C81: 5550 | D81: =AVERAGE(B81:C81) -> 5510
... A83: 39199 | B83: 5470 | C83: 5550 | D83: =AVERAGE(B83:C83) -> 5510
A84: 39202 | B84: 5470 | C84: 5550 | D84: =AVERAGE(B84:C84) -> 5510 | E84: =AVERAGE(D64:D84) -> 5510
A85: 39203 | B85: 5470 | C85: 5550 | D85: =AVERAGE(B85:C85) -> 5510
A86: 39204 | B86: 5470 | C86: 5550 | D86: =AVERAGE(B86:C86) -> 5510
A87: 39205 | B87: 5400 | C87: 5500 | D87: =AVERAGE(B87:C87) -> 5450
A88: 39206 | B88: 5400 | C88: 5500 | D88: =AVERAGE(B88:C88) -> 5450
A89: 39210 | B89: 5400 | C89: 5500 | D89: =AVERAGE(B89:C89) -> 5450
A90: 39211 | B90: 5400 | C90: 5500 | D90: =AVERAGE(B90:C90) -> 5450
A91: 39212 | B91: 5400 | C91: 5500 | D91: =AVERAGE(B91:C91) -> 5450
A92: 39213 | B92: 5350 | C92: 5500 | D92: =AVERAGE(B92:C92) -> 5425
A93: 39216 | B93: 5350 | C93: 5500 | D93: =AVERAGE(B93:C93) -> 5425
A94: 39217 | B94: 5350 | C94: 5500 | D94: =AVERAGE(B94:C94) -> 5425
A95: 39218 | B95: 5350 | C95: 5500 | D95: =AVERAGE(B95:C95) -> 5425
A96: 39219 | B96: 5350 | C96: 5500 | D96: =AVERAGE(B96:C96) -> 5425
... A102: 39227 | B102: 5350 | C102: 5500 | D102: =AVERAGE(B102:C102) -> 5425
A103: Spring Bank Holiday in UK
A104: 39231 | B104: 5350 | C104: 5500 | D104: =AVERAGE(B104:C104) -> 5425
A105: 39232 | B105: 5350 | C105: 5500 | D105: =AVERAGE(B105:C105) -> 5425
A106: 39233 | B106: 5350 | C106: 5500 | D106: =AVERAGE(B106:C106) -> 5425 | E106: =AVERAGE(D85:D106) -> 5439.0476
A107: 39234 | B107: 5350 | C107: 5500 | D107: =AVERAGE(B107:C107) -> 5425
A108: 39237 | B108: 5350 | C108: 5500 | D108: =AVERAGE(B108:C108) -> 5425
A109: 39238 | B109: 5350 | C109: 5500 | D109: =AVERAGE(B109:C109) -> 5425
A110: 39239 | B110: 5350 | C110: 5500 | D110: =AVERAGE(B110:C110) -> 5425
A111: 39240 | B111: 5350 | C111: 5500 | D111: =AVERAGE(B111:C111) -> 5425
A112: 39241 | B112: 5300 | C112: 5400 | D112: =AVERAGE(B112:C112) -> 5350
A113: 39244 | B113: 5300 | C113: 5400 | D113: =AVERAGE(B113:C113) -> 5350
A114: 39245 | B114: 5300 | C114: 5400 | D114: =AVERAGE(B114:C114) -> 5350
A115: 39246 | B115: 5300 | C115: 5400 | D115: =AVERAGE(B115:C115) -> 5350
A116: 39247 | B116: 5300 | C116: 5400 | D116: =AVERAGE(B116:C116) -> 5350
A117: 39248 | B117: 5300 | C117: 5400 | D117: =AVERAGE(B117:C117) -> 5350
A118: 39251 | B118: 5300 | C118: 5400 | D118: =AVERAGE(B118:C118) -> 5350
... A126: 39261 | B126: 5300 | C126: 5400 | D126: =AVERAGE(B126:C126) -> 5350
A127: 39262 | B127: 5200 | C127: 5300 | D127: =AVERAGE(B127:C127) -> 5250 | E127: =AVERAGE(D107:D127) -> 5372.619 | G127: =AVERAGE(D64:D127) -> 5438.2787 | H127: 929.26 | I127: =+H127*G127 -> 5053574.9
A128: 39265 | B128: 5200 | C128: 5300 | D128: =AVERAGE(B128:C128) -> 5250
A129: 39266 | B129: 5200 | C129: 5300 | D129: =AVERAGE(B129:C129) -> 5250
A130: 39267 | B130: 5200 | C130: 5300 | D130: =AVERAGE(B130:C130) -> 5250
A131: 39268 | B131: 5200 | C131: 5300 | D131: =AVERAGE(B131:C131) -> 5250
A132: 39269 | B132: 5200 | C132: 5300 | D132: =AVERAGE(B132:C132) -> 5250
...

Sheet Pb 그래프
A1: 날짜 | B1: STOCK | C1: LME | D1: SHMET | E1: SHMET/10
A2: 39084 | B2: 41050 | C2: 1725 | D2: 14550 | E2: =D2/10 -> 1455
A3: 39085 | B3: 41050 | C3: 1660 | D3: 14550 | E3: =D3/10 -> 1455
A4: 39086 | B4: 43125 | C4: 1722 | D4: 14650 | E4: =D4/10 -> 1465
A5: 39087 | B5: 42850 | C5: 1695 | D5: 14575 | E5: =D5/10 -> 1457.5
A6: 39090 | B6: 43550 | C6: 1600 | D6: 14525 | E6: =D6/10 -> 1452.5
A7: 39091 | B7: 43300 | C7: 1596 | D7: 14525 | E7: =D7/10 -> 1452.5
A8: 39092 | B8: 42400 | C8: 1625 | D8: 14500 | E8: =D8/10 -> 1450
A9: 39093 | B9: 41500 | C9: 1634.5 | D9: 14550 | E9: =D9/10 -> 1455
A10: 39094 | B10: 41050 | C10: 1665 | D10: 14550 | E10: =D10/10 -> 1455
A11: 39097 | B11: 40475 | C11: 1650 | D11: 14500 | E11: =D11/10 -> 1450
A12: 39098 | B12: 39950 | C12: 1632 | D12: 14500 | E12: =D12/10 -> 1450
A13: 39099 | B13: 40300 | C13: 1575 | D13: 14425 | E13: =D13/10 -> 1442.5
... A104: 39227 | B104: 46900 | C104: 2156 | D104: 16525 | E104: =D104/10 -> 1652.5
B105: 46900 | C105: 2156 | D105: 16575 | E105: =D105/10 -> 1657.5
A106: 39231 | B106: 46700 | C106: 2205 | D106: 16650 | E106: =D106/10 -> 1665
A107: 39232 | B107: 46800 | C107: 2280 | D107: 16700 | E107: =D107/10 -> 1670
A108: 39233 | B108: 47625 | C108: 2349 | D108: 16750 | E108: =D108/10 -> 1675
A109: 39234 | B109: 47600 | C109: 2351 | D109: 16850 | E109: =D109/10 -> 1685
A110: 39237 | B110: 47650 | C110: 2336 | D110: 16825 | E110: =D110/10 -> 1682.5
A111: 39238 | B111: 48250 | C111: 2325.5 | D111: 16825 | E111: =D111/10 -> 1682.5
A112: 39239 | B112: 47775 | C112: 2315.5 | D112: 16800 | E112: =D112/10 -> 1680
A113: 39240 | B113: 47075 | C113: 2305 | D113: 16775 | E113: =D113/10 -> 1677.5
A114: 39241 | B114: 46275 | C114: 2255 | D114: 16725 | E114: =D114/10 -> 1672.5
A115: 39244 | B115: 45275 | C115: 2315 | D115: 16725 | E115: =D115/10 -> 1672.5
A116: 39245 | B116: 44175 | C116: 2315 | D116: 16825 | E116: =D116/10 -> 1682.5
A117: 39246 | B117: 43300 | C117: 2288.5 | D117: 16875 | E117: =D117/10 -> 1687.5
... A253: 39437 | B253: 43325 | C253: 2655 | D253: 18900 | E253: =D253/10 -> 1890
B254: 43325 | C254: 2655 | D254: 19150 | E254: =D254/10 -> 1915
B255: 43325 | C255: 2655 | D255: 19500 | E255: =D255/10 -> 1950
B256: 43325 | C256: 2655 | D256: 19500 | E256: =D256/10 -> 1950
A257: 39443 | B257: 43250 | C257: 2650 | D257: 19500 | E257: =D257/10 -> 1950
A258: 39444 | B258: 45500 | C258: 2561 | D258: 19500 | E258: =D258/10 -> 1950
A259: 39447 | B259: 45475 | C259: 2532 | D259: 19500 | E259: =D259/10 -> 1950
A260: 39449 | B260: 45350 | C260: 2580 | D260: 19300 | E260: =D260/10 -> 1930
A261: 39450 | B261: 46750 | C261: 2593 | D261: 19200 | E261: =D261/10 -> 1920
A262: 39451 | B262: 46850 | C262: 2665 | D262: 19400 | E262: =D262/10 -> 1940
A263: 39454 | B263: 48900 | C263: 2601 | D263: 19300 | E263: =D263/10 -> 1930
A264: 39455 | B264: 49200 | C264: 2580.5 | D264: 19450 | E264: =D264/10 -> 1945
A265: 39456 | B265: 49300 | C265: 2630 | D265: 19500 | E265: =D265/10 -> 1950
A266: 39457 | B266: 49325 | C266: 2525.5 | D266: 19450 | E266: =D266/10 -> 1945
A267: 39458 | B267: 49250 | C267: 2551 | D267: 19400 | E267: =D267/10 -> 1940
A268: 39461 | B268: 48950 | C268: 2640 | D268: 19500 | E268: =D268/10 -> 1950
... A1881: 41729 | B1881: 200325 | C1881: 2041 | D1881: 13720 | E1881: =D1881/10 -> 1372

Sheet Ni 월별평균

Sheet Se 가격
A1: 셀레늄
A2: DATE | B2: BUY | C2: SELL | D2: AVG | E2: $/ton | F2: 월 AVG | G2: 분기AVG
A3: 41641 | B3: 24 | C3: 28 | D3: =AVERAGE(B3:C3) -> 26 | E3: 57320.235
A4: 41642 | B4: 24 | C4: 28 | D4: =AVERAGE(B4:C4) -> 26 | E4: 57320.235
A5: 41645 | B5: 24 | C5: 28 | D5: =AVERAGE(B5:C5) -> 26 | E5: 57320.235
A6: 41646 | B6: 24 | C6: 28 | D6: =AVERAGE(B6:C6) -> 26 | E6: 57320.235
A7: 41647 | B7: 24 | C7: 28 | D7: =AVERAGE(B7:C7) -> 26 | E7: 57320.235
A8: 41648 | B8: 24 | C8: 28 | D8: =AVERAGE(B8:C8) -> 26 | E8: 57320.235
A9: 41649 | B9: 24 | C9: 28 | D9: =AVERAGE(B9:C9) -> 26 | E9: 57320.235
A10: 41652 | B10: 24 | C10: 28 | D10: =AVERAGE(B10:C10) -> 26 | E10: 57320.235
A11: 41653 | B11: 24 | C11: 28 | D11: =AVERAGE(B11:C11) -> 26 | E11: 57320.235
A12: 41654 | B12: 24 | C12: 28 | D12: =AVERAGE(B12:C12) -> 26 | E12: 57320.235
A13: 41655 | B13: 24 | C13: 28 | D13: =AVERAGE(B13:C13) -> 26 | E13: 57320.235
A14: 41656 | B14: 24 | C14: 28 | D14: =AVERAGE(B14:C14) -> 26 | E14: 57320.235
... A23: 41669 | B23: 24 | C23: 28 | D23: =AVERAGE(B23:C23) -> 26 | E23: 57320.235
A24: 41670 | B24: 24 | C24: 28 | D24: =AVERAGE(B24:C24) -> 26 | E24: 57320.235 | F24: =AVERAGE(E3:E24) -> 57320.235
A25: 41673 | B25: 24 | C25: 28 | D25: =AVERAGE(B25:C25) -> 26 | E25: 57320.235
A26: 41674 | B26: 24 | C26: 28 | D26: =AVERAGE(B26:C26) -> 26 | E26: 57320.235
A27: 41675 | B27: 24 | C27: 28 | D27: =AVERAGE(B27:C27) -> 26 | E27: 57320.235
A28: 41676 | B28: 24 | C28: 28 | D28: =AVERAGE(B28:C28) -> 26 | E28: 57320.235
A29: 41677 | B29: 24 | C29: 28 | D29: =AVERAGE(B29:C29) -> 26 | E29: 57320.235
A30: 41680 | B30: 24 | C30: 28 | D30: =AVERAGE(B30:C30) -> 26 | E30: 57320.235
A31: 41681 | B31: 24 | C31: 28 | D31: =AVERAGE(B31:C31) -> 26 | E31: 57320.235
A32: 41682 | B32: 24 | C32: 28 | D32: =AVERAGE(B32:C32) -> 26 | E32: 57320.235
A33: 41683 | B33: 24 | C33: 28 | D33: =AVERAGE(B33:C33) -> 26 | E33: 57320.235
A34: 41684 | B34: 25 | C34: 28.5 | D34: =AVERAGE(B34:C34) -> 26.75 | E34: 58973.7
A35: 41687 | B35: 25 | C35: 28.5 | D35: =AVERAGE(B35:C35) -> 26.75 | E35: 58973.7
A36: 41688 | B36: 25 | C36: 28.5 | D36: =AVERAGE(B36:C36) -> 26.75 | E36: 58973.7
A37: 41689 | B37: 25.5 | C37: 28.5 | D37: =AVERAGE(B37:C37) -> 27 | E37: 59524.86
A38: 41690 | B38: 25.5 | C38: 28.5 | D38: =AVERAGE(B38:C38) -> 27 | E38: 59524.86 | J38: Se 톤당 달러가격계산 | L38: buy | M38: sell | N38: Ave($/lb) | O38: $/1kg | P38: $/1t
A39: 41691 | B39: 25.5 | C39: 29 | D39: =AVERAGE(B39:C39) -> 27.25 | E39: 60076.02 | L39: 25 | M39: 28 | N39: =(L39+M39)/2 -> 26.5 | O39: =N39/P45 -> 58.422547 | P39: =O39*1000 -> 58422.547
A40: 41694 | B40: 25.5 | C40: 29 | D40: =AVERAGE(B40:C40) -> 27.25 | E40: 60076.02
A41: 41695 | B41: 25.5 | C41: 29 | D41: =AVERAGE(B41:C41) -> 27.25 | E41: 60076.02
A42: 41696 | B42: 25.5 | C42: 29 | D42: =AVERAGE(B42:C42) -> 27.25 | E42: 60076.02
A43: 41697 | B43: 25.5 | C43: 29 | D43: =AVERAGE(B43:C43) -> 27.25 | E43: 60076.02
A44: 41698 | B44: 25.5 | C44: 29 | D44: =AVERAGE(B44:C44) -> 27.25 | E44: 60076.02 | F44: =AVERAGE(E25:E44) -> 58615.453 | G44: =AVERAGE(E3:E44) -> 57937.005 | P44: 환산단위(1kg)
A45: 41701 | B45: 25.5 | C45: 29 | D45: =AVERAGE(B45:C45) -> 27.25 | E45: 60076.02 | P45: 0.453592
A46: 41702 | B46: 25.5 | C46: 29 | D46: =AVERAGE(B46:C46) -> 27.25 | E46: 60076.02
A47: 41703 | B47: 25.5 | C47: 29 | D47: =AVERAGE(B47:C47) -> 27.25 | E47: 60076.02
A48: 41704 | B48: 25.5 | C48: 29 | D48: =AVERAGE(B48:C48) -> 27.25 | E48: 60076.02
A49: 41705 | B49: 25.5 | C49: 29 | D49: =AVERAGE(B49:C49) -> 27.25 | E49: 60076.02
A50: 41708 | B50: 25.5 | C50: 29 | D50: =AVERAGE(B50:C50) -> 27.25 | E50: 60076.02
A51: 41709 | B51: 25.5 | C51: 29 | D51: =AVERAGE(B51:C51) -> 27.25 | E51: 60076.02
A52: 41710 | B52: 25.5 | C52: 29 | D52: =AVERAGE(B52:C52) -> 27.25 | E52: 60076.02
A53: 41711 | B53: 25.5 | C53: 29 | D53: =AVERAGE(B53:C53) -> 27.25 | E53: 60076.02
A54: 41712 | B54: 25.5 | C54: 29 | D54: =AVERAGE(B54:C54) -> 27.25 | E54: 60076.02
A55: 41715 | B55: 25.5 | C55: 28.5 | D55: =AVERAGE(B55:C55) -> 27 | E55: 59524.86
A56: 41716 | B56: 25.5 | C56: 28.5 | D56: =AVERAGE(B56:C56) -> 27 | E56: 59524.86
A57: 41717 | B57: 25 | C57: 28 | D57: =AVERAGE(B57:C57) -> 26.5 | E57: 58422.55
... A62: 41724 | B62: 25 | C62: 28 | D62: =AVERAGE(B62:C62) -> 26.5 | E62: 58422.55
A63: 41725 | B63: 25 | C63: 28 | D63: =AVERAGE(B63:C63) -> 26.5 | E63: 58422.55 | F63: =AVERAGE(E45:E63) -> 59408.83 | G63: =AVERAGE(E3:E63) -> 58395.443

Sheet Sn 가격및재고
A1: DATE | B1: STOCK | C1: Cash | D1: 3-Month | E1: Spread | F1: Cash 차이 | G1: 월평균 | H1: 년평균 | I1: SHMET(중국)
B2: TOTAL | I2: CASH
A3: 40910 | B3: 휴 장(Holidays) | I3: 휴 장(Holidays) | K3: =AVERAGE(C4:C18) -> 20722.667
A4: 40911 | B4: 12095 | C4: 19450 | D4: 19495 | E4: =D4-C4 -> 45 | F4: =+C4-#REF! -> #REF!
A5: 40912 | B5: 11795 | C5: 19675 | D5: 19750 | E5: =D5-C5 -> 75 | F5: =+C5-C4 -> 225
A6: 40913 | B6: 11360 | C6: 19415 | D6: 19450 | E6: =D6-C6 -> 35 | F6: =+C6-C5 -> -260
A7: 40914 | B7: 11335 | C7: 19750 | D7: 19800 | E7: =D7-C7 -> 50 | F7: =+C7-C6 -> 335
A8: 40917 | B8: 11330 | C8: 20100 | D8: 20100 | E8: =D8-C8 -> 0 | F8: =+C8-C7 -> 350
A9: 40918 | B9: 11270 | C9: 20075 | D9: 20010 | E9: =D9-C9 -> -65 | F9: =+C9-C8 -> -25
A10: 40919 | B10: 11250 | C10: 20300 | D10: 20350 | E10: =D10-C10 -> 50 | F10: =+C10-C9 -> 225
A11: 40920 | B11: 11250 | C11: 21100 | D11: 21100 | E11: =D11-C11 -> 0 | F11: =+C11-C10 -> 800
A12: 40921 | B12: 11205 | C12: 21090 | D12: 21100 | E12: =D12-C12 -> 10 | F12: =+C12-C11 -> -10
A13: 40924 | B13: 11160 | C13: 20900 | D13: 20905 | E13: =D13-C13 -> 5 | F13: =+C13-C12 -> -190
A14: 40925 | B14: 10935 | C14: 21600 | D14: 21650 | E14: =D14-C14 -> 50 | F14: =+C14-C13 -> 700
A15: 40926 | B15: 10885 | C15: 21600 | D15: 21650 | E15: =D15-C15 -> 50 | F15: =+C15-C13 -> 700
A16: 40927 | B16: 10745 | C16: 22000 | D16: 22005 | E16: =D16-C16 -> 5 | F16: =+C16-C15 -> 400
A17: 40928 | B17: 9800 | C17: 21850 | D17: 21925 | E17: =D17-C17 -> 75 | F17: =+C17-C16 -> -150 | I17: 173000
A18: 40931 | B18: 9705 | C18: 21935 | D18: 22050 | E18: =D18-C18 -> 115 | F18: =+C18-C17 -> 85 | I18: 휴 장(Holidays)
A19: 40932 | B19: 9685 | C19: 21860 | D19: 22000 | E19: =D19-C19 -> 140 | F19: =+C19-C18 -> -75
A20: 40933 | B20: 9685 | C20: 22005 | D20: 22145 | E20: =D20-C20 -> 140 | F20: =+C20-C19 -> 145
A21: 40934 | B21: 9664 | C21: 23330 | D21: 23400 | E21: =D21-C21 -> 70 | F21: =+C21-C20 -> 1325
A22: 40935 | B22: 9365 | C22: 24310 | D22: 24325 | E22: =D22-C22 -> 15 | F22: =+C22-C21 -> 980
A23: 40938 | B23: 9315 | C23: 24050 | D23: 24005 | E23: =D23-C23 -> -45 | F23: =+C23-C22 -> -260 | I23: 181000
A24: 40939 | B24: 9100 | C24: 24290 | D24: 24325 | E24: =D24-C24 -> 35 | F24: =+C24-C23 -> 240 | G24: =AVERAGE(C4:C24) -> 21461.19 | H24: =AVERAGE(C4:C24) -> 21461.19 | I24: 183000
A25: 40940 | B25: 9175 | C25: 24060 | D25: 24250 | E25: =D25-C25 -> 190 | F25: =+C25-C24 -> -230 | I25: 183000
A26: 40941 | B26: 9200 | C26: 24100 | D26: 24150 | E26: =D26-C26 -> 50 | F26: =+C26-C25 -> 40 | I26: 184500
A27: 40942 | B27: 9240 | C27: 24000 | D27: 24075 | E27: =D27-C27 -> 75 | F27: =+C27-C26 -> -100 | I27: 183500
A28: 40945 | B28: 9400 | C28: 24375 | D28: 24400 | E28: =D28-C28 -> 25 | F28: =+C28-C27 -> 375 | I28: 182500
A29: 40946 | B29: 9125 | C29: 24250 | D29: 24300 | E29: =D29-C29 -> 50 | F29: =+C29-C28 -> -125 | I29: 181000
A30: 40947 | B30: 9090 | C30: 25650 | D30: 25700 | E30: =D30-C30 -> 50 | F30: =+C30-C29 -> 1400 | I30: 179500
A31: 40948 | B31: 9090 | C31: 25160 | D31: 25205 | E31: =D31-C31 -> 45 | F31: =+C31-C30 -> -490 | I31: 179500
A32: 40949 | B32: 9150 | C32: 25500 | D32: 25500 | E32: =D32-C32 -> 0 | F32: =+C32-C31 -> 340 | I32: 179500
A33: 40952 | B33: 9190 | C33: 25325 | D33: 25325 | E33: =D33-C33 -> 0 | F33: =+C33-C32 -> -175 | I33: 181000
A34: 40953 | B34: 9300 | C34: 24800 | D34: 24840 | E34: =D34-C34 -> 40 | F34: =+C34-C33 -> -525 | I34: 180250
A35: 40954 | B35: 9180 | C35: 24535 | D35: 24575 | E35: =D35-C35 -> 40 | F35: =+C35-C34 -> -265 | I35: 178750
A36: 40955 | B36: 10000 | C36: 24005 | D36: 24150 | E36: =D36-C36 -> 145 | F36: =+C36-C35 -> -530 | I36: 178000
... A44: 40967 | B44: 10250 | C44: 24125 | D44: 24125 | E44: =D44-C44 -> 0 | F44: =+C44-C43 -> 650 | I44: 173750
A45: 40968 | B45: 10470 | C45: 24250 | D45: 24300 | E45: =D45-C45 -> 50 | F45: =+C45-C44 -> 125 | G45: =AVERAGE(C25:C45) -> 24342.619 | H45: =AVERAGE(C4:C45) -> 22901.905
A46: 40969 | B46: 10615 | C46: 23880 | D46: 23945 | E46: =D46-C46 -> 65 | F46: =+C46-C45 -> -370 | I46: 173500
A47: 40970 | B47: 11035 | C47: 23650 | D47: 23700 | E47: =D47-C47 -> 50 | F47: =+C47-C46 -> -230 | I47: 173500
A48: 40973 | B48: 11225 | C48: 22905 | D48: 23075 | E48: =D48-C48 -> 170 | F48: =+C48-C47 -> -745 | I48: 173500
A49: 40974 | B49: 11315 | C49: 22700 | D49: 22700 | E49: =D49-C49 -> 0 | F49: =+C49-C48 -> -205 | I49: 172750
A50: 40975 | B50: 11460 | C50: 22450 | D50: 22455 | E50: =D50-C50 -> 5 | F50: =+C50-C49 -> -250 | I50: 171000
A51: 40976 | B51: 11545 | C51: 22900 | D51: 22950 | E51: =D51-C51 -> 50 | F51: =+C51-C50 -> 450 | I51: 170750
A52: 40977 | B52: 11620 | C52: 22660 | D52: 22700 | E52: =D52-C52 -> 40 | F52: =+C52-C51 -> -240 | I52: 170500
A53: 40980 | B53: 11615 | C53: 22905 | D53: 23000 | E53: =D53-C53 -> 95 | F53: =+C53-C52 -> 245 | I53: 171500
A54: 40981 | B54: 11595 | C54: 23450 | D54: 23550 | E54: =D54-C54 -> 100 | F54: =+C54-C53 -> 545 | I54: 171500
A55: 40982 | B55: 11570 | C55: 23900 | D55: 23950 | E55: =D55-C55 -> 50 | F55: =+C55-C54 -> 450 | I55: 173500
A56: 40983 | B56: 11570 | C56: 23530 | D56: 23650 | E56: =D56-C56 -> 120 | F56: =+C56-C55 -> -370 | I56: 174000
A57: 40984 | B57: 11570 | C57: 23800 | D57: 23850 | E57: =D57-C57 -> 50 | F57: =+C57-C56 -> 270 | I57: 173500
... A66: 40997 | B66: 12925 | C66: 22350 | D66: 22425 | E66: =D66-C66 -> 75 | F66: =+C66-C65 -> -100 | I66: 170000
A67: 40998 | B67: 13080 | C67: 23200 | D67: 23100 | E67: =D67-C67 -> -100 | F67: =+C67-C66 -> 850 | G67: =AVERAGE(C46:C67) -> 23016.136 | H67: =AVERAGE(C4:C67) -> 22941.172 | I67: 170000
A68: 41001 | B68: 13090 | C68: 22750 | D68: 22810 | E68: =D68-C68 -> 60 | F68: =+C68-C67 -> -450 | I68: 휴 장(Holidays)
A69: 41002 | B69: 13285 | C69: 23100 | D69: 23200 | E69: =D69-C69 -> 100 | F69: =+C69-C68 -> 350
A70: 41003 | B70: 13285 | C70: 22550 | D70: 22505 | E70: =D70-C70 -> -45 | F70: =+C70-C69 -> -550
A71: 41004 | B71: 13070 | C71: 22500 | D71: 22455 | E71: =D71-C71 -> -45 | F71: =+C71-C70 -> -50 | I71: 170000
A72: 41005 | B72: 휴 장(Holidays) | I72: 170000
A73: 41008 | I73: 169250
A74: 41009 | B74: 13045 | C74: 22850 | D74: 23000 | E74: =D74-C74 -> 150 | F74: =+C74-C71 -> 350 | I74: 168250
A75: 41010 | B75: 13150 | C75: 22650 | D75: 22730 | E75: =D75-C75 -> 80 | F75: =+C75-C74 -> -200 | I75: 168000
A76: 41011 | B76: 13150 | C76: 22625 | D76: 22700 | E76: =D76-C76 -> 75 | F76: =+C76-C75 -> -25 | I76: 167250
A77: 41012 | B77: 13265 | C77: 22650 | D77: 22605 | E77: =D77-C77 -> -45 | F77: =+C77-C76 -> 25 | I77: 167250
A78: 41015 | B78: 13240 | C78: 21650 | D78: 21795 | E78: =D78-C78 -> 145 | F78: =+C78-C77 -> -1000 | I78: 166500
A79: 41016 | B79: 13275 | C79: 21250 | D79: 21350 | E79: =D79-C79 -> 100 | F79: =+C79-C78 -> -400 | I79: 165750
A80: 41017 | B80: 13470 | C80: 21170 | D80: 21225 | E80: =D80-C80 -> 55 | F80: =+C80-C79 -> -80 | I80: 165250
A81: 41018 | B81: 13480 | C81: 21060 | D81: 21250 | E81: =D81-C81 -> 190 | F81: =+C81-C80 -> -110 | I81: 164750
A82: 41019 | B82: 13645 | C82: 21255 | D82: 21350 | E82: =D82-C82 -> 95 | F82: =+C82-C81 -> 195 | I82: 164750
A83: 41022 | B83: 13810 | C83: 21065 | D83: 21165 | E83: =D83-C83 -> 100 | F83: =+C83-C82 -> -190 | I83: 164750
A84: 41023 | B84: 13875 | C84: 21390 | D84: 21400 | E84: =D84-C84 -> 10 | F84: =+C84-C83 -> 325 | I84: 164500
A85: 41024 | B85: 13875 | C85: 21700 | D85: 21750 | E85: =D85-C85 -> 50 | F85: =+C85-C84 -> 310 | I85: 164500
A86: 41025 | B86: 13890 | C86: 22495 | D86: 22500 | E86: =D86-C86 -> 5 | F86: =+C86-C85 -> 795 | I86: 164000
A87: 41026 | B87: 14405 | C87: 22405 | D87: 22525 | E87: =D87-C87 -> 120 | F87: =+C87-C86 -> -90 | I87: 164000
A88: 41029 | B88: 14515 | C88: 22625 | D88: 22680 | E88: =D88-C88 -> 55 | F88: =+C88-C87 -> 220 | G88: =AVERAGE(C68:C88) -> 22091.579 | H88: =AVERAGE(C4:C88) -> 22746.687 | I88: 휴 장(Holidays)
A89: 41030 | B89: 14515 | C89: 22725 | D89: 22800 | E89: =D89-C89 -> 75 | F89: =+C89-C88 -> 100 | I89: 휴 장(Holidays)
A90: 41031 | B90: 14490 | C90: 22250 | D90: 22325 | E90: =D90-C90 -> 75 | F90: =+C90-C89 -> -475 | I90: 164250
A91: 41032 | B91: 14510 | C91: 22005 | D91: 22075 | E91: =D91-C91 -> 70 | F91: =+C91-C90 -> -245 | I91: 164250
A92: 41033 | B92: 14545 | C92: 21775 | D92: 21700 | E92: =D92-C92 -> -75 | F92: =+C92-C91 -> -230 | I92: 163750
A93: 41036 | B93: 휴 장(Holidays) | I93: 163500
A94: 41037 | B94: 14595 | C94: 21340 | D94: 21345 | E94: =D94-C94 -> 5 | F94: =+C94-C93 -> 21340 | I94: 162500
A95: 41038 | B95: 14490 | C95: 20850 | D95: 20900 | E95: =D95-C95 -> 50 | F95: =+C95-C94 -> -490 | I95: 161750
A96: 41039 | B96: 14515 | C96: 20645 | D96: 20650 | E96: =D96-C96 -> 5 | F96: =+C96-C95 -> -205 | I96: 160000
A97: 41040 | B97: 14490 | C97: 20255 | D97: 20325 | E97: =D97-C97 -> 70 | F97: =+C97-C96 -> -390 | I97: 159750
A98: 41043 | B98: 14425 | C98: 20275 | D98: 20200 | E98: =D98-C98 -> -75 | F98: =+C98-C97 -> 20 | I98: 158000
A99: 41044 | B99: 14305 | C99: 20200 | D99: 20200 | E99: =D99-C99 -> 0 | F99: =+C99-C98 -> -75 | I99: 157500
A100: 41045 | B100: 14255 | C100: 19780 | D100: 19850 | E100: =D100-C100 -> 70 | F100: =+C100-C99 -> -420 | I100: 155500
A101: 41046 | B101: 14355 | C101: 19450 | D101: 19380 | E101: =D101-C101 -> -70 | F101: =+C101-C100 -> -330 | I101: 154500
A102: 41047 | B102: 14430 | C102: 19400 | D102: 19450 | E102: =D102-C102 -> 50 | F102: =+C102-C101 -> -50 | I102: 154500
A103: 41050 | B103: 14470 | C103: 19450 | D103: 19425 | E103: =D103-C103 -> -25 | F103: =+C103-C102 -> 50 | I103: 154000
A104: 41051 | B104: 14575 | C104: 19460 | D104: 19525 | E104: =D104-C104 -> 65 | F104: =+C104-C103 -> 10 | I104: 154000
A105: 41052 | B105: 13995 | C105: 19305 | D105: 19350 | E105: =D105-C105 -> 45 | F105: =+C105-C104 -> -155 | I105: 154250
... A110: 41059 | B110: 13410 | C110: 19805 | D110: 19800 | E110: =D110-C110 -> -5 | F110: =+C110-C109 -> -295 | I110: 154250
A111: 41060 | B111: 13410 | C111: 19725 | D111: 19725 | E111: =D111-C111 -> 0 | F111: =+C111-C110 -> -80 | G111: =AVERAGE(C89:C111) -> 20370.682 | H111: =AVERAGE(C4:C111) -> 22248.857 | I111: 154150
A112: 41061 | B112: 13360 | C112: 19330 | D112: 19405 | E112: =D112-C112 -> 75 | F112: =+C112-C111 -> -395 | I112: 154250
A113: 41064 | B113: 휴 장(Holidays) | I113: 154250
A114: 41065 | I114: 152750
A115: 41066 | B115: 12855 | C115: 19905 | D115: 19900 | E115: =D115-C115 -> -5 | F115: =+C115-C112 -> 575 | I115: 152750
A116: 41067 | B116: 12310 | C116: 19620 | D116: 19605 | E116: =D116-C116 -> -15 | F116: =+C116-C115 -> -285 | I116: 152000
A117: 41068 | B117: 12155 | C117: 19500 | D117: 19500 | E117: =D117-C117 -> 0 | F117: =+C117-C116 -> -120 | I117: 151750
A118: 41071 | B118: 12075 | C118: 19875 | D118: 19720 | E118: =D118-C118 -> -155 | F118: =+C118-C117 -> 375 | I118: 151500
A119: 41072 | B119: 12045 | C119: 19650 | D119: 19600 | E119: =D119-C119 -> -50 | F119: =+C119-C118 -> -225 | I119: 151500
...

Sheet 월별평균
A1: 1. LME Pb Cash Settlement AVG | L1: =TODAY() -> 45559 | M1: 기준 (LME는 전일)
A2: 구분 | B2: 1월 | C2: 2월 | D2: 3월 | E2: 4월 | F2: 5월 | G2: 6월 | H2: 7월 | I2: 8월 | J2: 9월 | K2: 10월 | L2: 11월 | M2: 12월 | N2: AVG
A3: 1989~2000년 | B3: 673.19 | C3: 810.15 | D3: 557.22 | E3: 541.66 | F3: 206.43 | G3: 547.76 | H3: 630.99 | I3: 774 | J3: 624.19 | K3: 528.63 | L3: 502.62 | M3: 453.95 | N3: =AVERAGE(B3:M3) -> 570.89917
A4: 1990년 | B4: 707.66 | C4: 779.93 | D4: 1060.67 | E4: 836.17 | F4: 825.47 | G4: 837.46 | H4: 874.08 | I4: 874.07 | J4: 838.05 | K4: 760.63 | L4: 701.14 | M4: 626.49 | N4: =AVERAGE(B4:M4) -> 810.15167
A5: 1991년 | B5: 600.01 | C5: 593.98 | D5: 604.78 | E5: 600.38 | F5: 555.91 | G5: 548.4 | H5: 546.71 | I5: 539.78 | J5: 538.97 | K5: 522.11 | L5: 505.49 | M5: 530.09 | N5: =AVERAGE(B5:M5) -> 557.2175
A6: 1992년 | B6: 515.69 | C6: 504.68 | D6: 521.38 | E6: 532.79 | F6: 520.56 | G6: 547.59 | H6: 626.45 | I6: 652.46 | J6: 623.74 | K6: 538.92 | L6: 460.52 | M6: 455.16 | N6: =AVERAGE(B6:M6) -> 541.66167
A7: 1993년 | B7: 436.54 | C7: 413.5 | D7: 405.68 | E7: 421.27 | F7: 407.25 | G7: 394.79 | H7: 388.25 | I7: 388.38 | J7: 375.73 | K7: 384.26 | L7: 400.25 | M7: 461.21 | N7: =AVERAGE(B7:M7) -> 406.42583
A8: 1994년 | B8: 490.08 | C8: 485.43 | D8: 451.46 | E8: 439.89 | F8: 473.5 | G8: 525.05 | H8: 580.14 | I8: 570.75 | J8: 613.45 | K8: 641.83 | L8: 667.18 | M8: 634.3 | N8: =AVERAGE(B8:M8) -> 547.755
A9: 1995년 | B9: 666.64 | C9: 580.35 | D9: 585.57 | E9: 608.5 | F9: 596.48 | G9: 611.8 | H9: 621.9 | I9: 623.64 | J9: 592.71 | K9: 639.09 | L9: 713.59 | M9: 731.61 | N9: =AVERAGE(B9:M9) -> 630.99
A10: 1996년 | B10: 709.5 | C10: 769.67 | D10: 813.45 | E10: 815 | F10: 840.24 | G10: 796.53 | H10: 784.09 | I10: 815.67 | J10: 796.57 | K10: 741.89 | L10: 716.55 | M10: 688.78 | N10: =AVERAGE(B10:M10) -> 773.995
A11: 1997년 | B11: 692.25 | C11: 660.23 | D11: 694.63 | E11: 642.48 | F11: 618.6 | G11: 614.93 | H11: 634.33 | I11: 608.1 | J11: 634.43 | K11: 600.26 | L11: 563.4 | M11: 526.62 | N11: =AVERAGE(B11:M11) -> 624.18833
A12: 1998년 | B12: 531.58 | C12: 516.38 | D12: 559.82 | E12: 572.65 | F12: 543.47 | G12: 528.32 | H12: 546.2 | I12: 536.7 | J12: 520.16 | K12: 492.82 | L12: 494.17 | M12: 501.26 | N12: =AVERAGE(B12:M12) -> 528.6275
A13: 1999년 | B13: 492.3 | C13: 513.654 | D13: 507.83 | E13: 519.33 | F13: 541.53 | G13: 496.11 | H13: 495.8 | I13: 503.07 | J13: 507.32 | K13: 497.1 | L13: 478.32 | M13: 479.05 | N13: =AVERAGE(B13:M13) -> 502.61783
A14: 2000년 | B14: 472.08 | C14: 452.38 | D14: 441.3 | E14: 421.14 | F14: 412.12 | G14: 419.59 | H14: 452.12 | I14: 473.09 | J14: 487.05 | K14: 486.14 | L14: 468.02 | M14: 462.34 | N14: =AVERAGE(B14:M14) -> 453.9475
... A18: 2004년 | B18: 758.38 | C18: 888.48 | D18: 886.48 | E18: 753.68 | F18: 808.89 | G18: 870.32 | H18: 939.59 | I18: 921.81 | J18: 935.45 | K18: 932.76 | L18: 967.8 | M18: 974.9 | N18: =AVERAGE(B18:M18) -> 886.545
A19: 2005년 | B19: 953.15 | C19: 977.55 | D19: 1005.83 | E19: 985.76 | F19: 988.08 | G19: 986.07 | H19: 854.48 | I19: 887.02 | J19: 933.07 | K19: 1004.76 | L19: 1018.41 | M19: 1124.08 | N19: =+'Pb 가격및재고'!O2024 -> 975.65476
A20: 2006년 | B20: 1256.33 | C20: 1277.05 | D20: 1192.09 | E20: 1170.42 | F20: 1166.86 | G20: 963.86 | H20: 1052.38 | I20: 1174.14 | J20: 1342.38 | K20: 1531.14 | L20: 1624.52 | M20: 1725.5 | N20: 1287.49
A21: 2007년 | B21: 1666.09 | C21: 1779.6 | D21: 1914.05 | E21: 2000.95 | F21: 2100.64 | G21: 2425.98 | H21: 3083.55 | I21: 3119.45 | J21: 3226.55 | K21: 3719.72 | L21: 3328.18 | M21: 2596.03 | N21: 2594.96
A22: 2008년 | B22: 2608.14 | C22: 3079.88 | D22: 3008.58 | E22: 2822.75 | F22: 2234.63 | G22: 1863.05 | H22: 1944.91 | I22: 1923.58 | J22: 1868.36 | K22: 1480.11 | L22: 1291.1 | M22: 962.88 | N22: 2084.76
A23: 2009년 | B23: 1132.74 | C23: 1100.53 | D23: 1238.91 | E23: 1383.1 | F23: 1440.16 | G23: 1674.45 | H23: 1678.61 | I23: 1900.1 | J23: 2204.55 | K23: 2240.77 | L23: 2308.76 | M23: 2328.52 | N23: 1726.11
A24: 2010년 | B24: 2368.38 | C24: 2123.675 | D24: 2172.087 | E24: 2264.85 | F24: 1882.6842 | G24: 1703.9545 | H24: 1836.9773 | I24: 2075.2381 | J24: 2184.2273 | K24: 2379.6667 | L24: 2376.7273 | M24: 2412.9286 | N24: 2147.5613
A25: 2011년 | B25: 2601.65 | C25: 2586.675 | D25: 2624.1957 | E25: 2741.1389 | F25: 2420.375 | G25: 2512.2045 | H25: 2682.5952 | I25: 2404.7045 | J25: 2298.7955 | K25: 1948.5952 | L25: 1982.0455 | M25: 2018.975 | N25: 2397.8327
A26: 2012년 | B26: 2094.0714 | C26: 2126.119 | D26: 2061.4545 | E26: 2063.0526 | F26: 1998.9091 | G26: 1854.7368 | H26: 1876.3864 | I26: 1895.75 | J26: 2169.275 | K26: 2153.3043 | L26: 2179.4773 | M26: 2275.5 | N26: 2061.39
A27: 2013년 | B27: 2340.27 | C27: 2376.2 | D27: 2183.48 | E27: 2030.26 | F27: 2028.29 | G27: 2103.83 | H27: 2048.24 | I27: 2173.45 | J27: 2088.4 | K27: 2111.46 | L27: 2090.19 | M27: 2133 | N27: 2141.15
A28: 2014년 | B28: 2148.89 | C28: 2110.48 | D28: 2056.36 | E28: 2085.95 | F28: 2097.13 | G28: 2103.31 | H28: 2189.26 | I28: 2236.58 | J28: 2122.25 | K28: 2038.09 | L28: 2023.73 | M28: 1936.1 | N28: 2095.98
A29: 2015년 | B29: 1829.17 | C29: 1804.68 | D29: 1784.98 | E29: 1999.8 | F29: 2003.84 | G29: 1836.34 | H29: 1762.35 | I29: 1692.9 | J29: 1682.05 | K29: 1724.57 | L29: 1615.98 | M29: 1701.29 | N29: 1783.5731
A30: 2016년 | B30: 1646.95 | C30: 1771.57 | D30: 1808.02 | E30: 1728.6667 | F30: 1714.425 | G30: 1713.9091 | H30: 1834.881 | I30: 1838.8864 | J30: 1942.02 | K30: 2039.93 | L30: 2178.8409 | M30: 2230.825 | N30: 1871.5771
A31: 2017년 | B31: 2236.6905 | C31: 2321.73 | D31: 2277.3043 | E31: 2231.3056 | F31: 2131.67 | G31: 2131.1818 | H31: 2266.4048 | I31: 2357.3182 | J31: 2377.2857 | K31: 2506.2955 | L31: 2464.4091 | M31: 2508.8158 | N31: 2317.4563
A32: 2018년 | B32: 2589.7727 | C32: 2580.825 | D32: 2397 | E32: 2357.375 | F32: 2363.881 | G32: 2440.74 | H32: 2212.9091 | I32: 2064.86 | J32: 2028.23 | K32: 1985.1522 | L32: 1940.1591 | M32: 1965.4737 | N32: ='Pb 가격및재고'!O5748 -> 1999.6798
A33: 2019년 | B33: 1994.1591 | C33: 2062.075 | D33: 2054.5714 | E33: 1948.85 | F33: 1817.2143 | G33: 1891.5 | H33: 1974.0217 | I33: 2043.1905 | J33: 2070.8571 | K33: 2184.3043 | L33: 2031.9048 | M33: 1899.25 | N33: ='Pb 가격및재고'!O5748 -> 1999.6798
A34: 2020년 | B34: 1925.1591 | C34: 1872.3 | D34: 1744.6364 | E34: 1651.525 | F34: 1618.1579 | G34: 1739.8636 | H34: 1812.1522 | I34: 1935.2 | J34: 1881.3636 | K34: 1777.0682 | L34: 1914.4762 | M34: 2018.5952 | N34: ='Pb 가격및재고'!O6021 -> 1825.5807
A35: 2021년 | B35: 2014.925 | C35: 2085.75 | D35: 1960.7609 | E35: 2006.325 | F35: 2185.9211 | G35: 2188.9773 | H35: 2336.98 | I35: 2428.52 | J35: 2257.25 | K35: ='Pb 가격및재고'!N6246 -> 2339.4524 | L35: ='Pb 가격및재고'!N6269 -> 2347.5682 | M35: ='Pb 가격및재고'!N6293 -> 2304.7857 | N35: ='Pb 가격및재고'!O6293 -> 2206.2253
A36: 2022년 | B36: 2342.7 | C36: ='[4]Pb 가격및재고'!N6336 -> 2299.9 | D36: ='[4]Pb 가격및재고'!N6360 -> 2359.4783 | E36: 2396.74 | F36: 2145.17 | G36: 2067.38 | H36: 1976.26 | I36: 2077.91 | J36: 1874.45 | K36: 1988.1 | L36: 2099.3864 | M36: 2212.475 | N36: ='Pb 가격및재고'!O6565 -> 2150.1733
A37: 2023년 | B37: 2208.1667 | C37: 2098.9 | D37: 2114.7826 | E37: 2149.1389 | F37: 2087.5 | G37: 2118.36 | H37: 2106.881 | I37: 2151.7273 | J37: 2252.8571 | K37: 2136.3864 | L37: 2185.0682 | M37: 2036.3947 | N37: ='Pb 가격및재고'!O6835 -> 2138.1833
A38: 2024년 | B38: 2087.5 | C38: 2084.2381 | D38: ='Pb 가격및재고'!N6901 -> 2056.9 | E38: ='Pb 가격및재고'!N6925 -> 2129.6667 | F38: ='Pb 가격및재고'!N6949 -> 2221.2619 | G38: ='Pb 가격및재고'!N6970 -> 2147.825 | H38: ='Pb 가격및재고'!N6994 -> 2114.3478 | I38: ='Pb 가격및재고'!N7017 -> 2002.4048 | J38: ='Pb 가격및재고'!N7034 -> 1988.1875 | N38: ='Pb 가격및재고'!O7034 -> 2095.4027
A39: 전월대비 | B39: =B38-M37 -> 51.105263 | C39: =C38-B38 -> -3.2619048 | D39: =D38-C38 -> -27.338095 | E39: =E38-D38 -> 72.766667 | F39: =F38-E38 -> 91.595238 | G39: =G38-F38 -> -73.436905 | H39: =H38-G38 -> -33.477174 | I39: =I38-H38 -> -111.94306 | J39: =J38-I38 -> -14.217262
A41: 2. CURRENCY (DOLLAR TT/S) AVERAGE - 외환은행 고시환율 (송금 전신환_보낼 때)
A42: 구분 | B42: 1월 | C42: 2월 | D42: 3월 | E42: 4월 | F42: 5월 | G42: 6월 | H42: 7월 | I42: 8월 | J42: 9월 | K42: 10월 | L42: 11월 | M42: 12월 | N42: AVG
A43: 2005년 | B43: 1048.36 | C43: 1032.39 | D43: 1017.32 | E43: 1020.8 | F43: 1012 | G43: 1020.73 | H43: 1047.55 | I43: 1031.13 | J43: 1039.36 | K43: 1056.45 | L43: 1051.59 | M43: 1034.14 | N43: =AVERAGE(B43:M43) -> 1034.3183
A44: 2006년 | B44: 996.65 | C44: 979.68 | D44: 984.6 | E44: 963.74 | F44: 950.58 | G44: 964.47 | H44: 959.42 | I44: 970.09 | J44: 962.96 | K44: 963.52 | L44: 945.35 | M44: 934.77 | N44: =AVERAGE(B44:M44) -> 964.6525
A45: 2007년 | B45: 945.48 | C45: 946.14 | D45: 952.44 | E45: 940.58 | F45: 936.96 | G45: 937.35 | H45: 927.8 | I45: 942.91 | J45: 941.49 | K45: 924.76 | L45: 925.9 | M45: 939.31 | N45: =AVERAGE(B45:M45) -> 938.42667
A46: 2008년 | B46: 951.56 | C46: 953.89 | D46: 989.41 | E46: 996.27 | F46: 1046.85 | G46: 1039.3 | H46: 1029.05 | I46: 1051.71 | J46: 1141.43 | K46: 1339.88 | L46: 1403.67 | M46: 1387.27 | N46: 1113.34
A47: 2009년 | B47: 1359.25 | C47: 1443.42 | D47: 1476.25 | E47: 1355 | F47: 1270.99 | G47: 1273.67 | H47: 1276.3 | I47: 1250.49 | J47: 1231.06 | K47: 1186.71 | L47: 1175.59 | M47: 1177.83 | N47: 1288.86
A48: 2010년 | B48: 1149.94 | C48: 1168.37 | D48: 1148.74 | E48: 1128.01 | F48: 1174.45 | G48: 1224.17 | H48: 1219.09 | I48: 1191.44 | J48: 1178.38 | K48: 1134.41 | L48: 1137.2 | M48: 1158.75 | N48: 1167.54
A49: 2011년 | B49: 1131 | C49: 1129.06 | D49: 1133.4 | E49: 1097.44 | F49: 1094.11 | G49: 1091.82 | H49: 1069.83 | I49: 1083.64 | J49: 1129.53 | K49: 1166.72 | L49: 1143.37 | M49: 1158.65 | N49: 1118.92
A50: 2012년 | B50: 1157.04 | C50: 1134.31 | D50: 1136.89 | E50: 1146.63 | F50: 1165.52 | G50: 1176.87 | H50: 1154.52 | I50: 1142.74 | J50: 1135.74 | K50: 1117.73 | L50: 1098.12 | M50: 1087.5 | N50: 1137.87
A51: 2013년 | B51: 1075.75 | C51: 1097.28 | D51: 1112.95 | E51: 1132.77 | F51: 1121.51 | G51: 1146.29 | H51: 1138.23 | I51: 1127.88 | J51: 1097.97 | K51: 1077.21 | L51: 1073.19 | M51: 1066.98 | N51: 1112.78
A52: 2014년 | B52: 1075.14 | C52: 1081.76 | D52: 1081.33 | E52: 1054.74 | F52: 1035 | G52: 1029.29 | H52: 1029.87 | I52: 1035.36 | J52: 1043.32 | K52: 1070.62 | L52: 1105.78 | M52: 1115.1 | N52: 1063.49
A53: 2015년 | B53: 1099.49 | C53: 1109.1 | D53: 1123.42 | E53: 1099.29 | F53: 1101.91 | G53: 1123.04 | H53: 1154.37 | I53: 1190.62 | J53: 1196.31 | K53: 1159.38 | L53: 1163.21 | M53: 1183.68 | N53: 1142.53
A54: 2016년 | B54: 1213.39 | C54: 1229.24 | D54: 1199.81 | E54: 1158.71 | F54: 1182.94 | G54: 1181.91 | H54: 1155.25 | I54: 1122.52 | J54: 1118.3 | K54: 1136.26 | L54: 1172.97 | M54: 1193.81 | N54: 1171.83
A55: 2017년 | B55: 1196.67 | C55: 1156.09 | D55: 1145.84 | E55: 1143.77 | F55: 1136.25 | G55: 1141.05 | H55: 1145.48 | I55: 1141.82 | J55: 1142.63 | K55: 1142.6 | L55: 1115.82 | M55: 1096.37 | N55: 1141.87
A56: 2018년 | B56: 1077.1 | C56: 1090.11 | D56: 1082.32 | E56: 1078.16 | F56: 1086.88 | G56: 1103.46 | H56: 1133.75 | I56: 1132.08 | J56: 1131.54 | K56: 1141.83 | L56: 1139.58 | M56: 1133.85 | N56: 1111.03
A57: 2019년 | B57: 1132.93 | C57: 1133.41 | D57: 1141.76 | E57: 1152.08 | F57: 1194.83 | G57: 1187.09 | H57: 1186.77 | I57: 1220.77 | J57: 1209.23 | K57: 1195.7 | L57: 1178.85 | M57: 1187.3 | N57: 1177.03
... A61: 2023년 | B61: 1259.42 | C61: 1283.14 | D61: 1318.48 | E61: 1332.9 | F61: 1341.17 | G61: 1309.37 | H61: 1298.87 | I61: 1331.35 | J61: 1342.45 | K61: 1363.89 | L61: 1323.17 | M61: 1316.71 | N61: 1318.15
A62: 2024년 | B62: 1336.48 | C62: =1344.74 -> 1344.74 | D62: 1343.68 | E62: 1381.18 | F62: 1378.73 | G62: 1393.62 | H62: 1396.89 | I62: 1367.37 | J62: 1349.81 | N62: 1366.62
A63: 전월대비 | B63: =B62-M61 -> 19.77 | C63: =C62-B62 -> 8.26 | D63: =D62-C62 -> -1.06 | E63: =E62-D62 -> 37.5 | F63: =F62-E62 -> -2.45 | G63: =G62-F62 -> 14.89 | H63: =H62-G62 -> 3.27 | I63: =I62-H62 -> -29.52 | J63: =J62-I62 -> -17.56
A65: 3. CURRENCY (DOLLAR) AVERAGE - 외환은행 고시환율 (매매기준율)
A66: 구분 | B66: 1월 | C66: 2월 | D66: 3월 | E66: 4월 | F66: 5월 | G66: 6월 | H66: 7월 | I66: 8월 | J66: 9월 | K66: 10월 | L66: 11월 | M66: 12월 | N66: AVG
A67: 2005년 | B67: 1038.23 | C67: 1022.43 | D67: 1007.49 | E67: 1010.94 | F67: 1002.21 | G67: 1010.87 | H67: 1037.44 | I67: 1021.17 | J67: 1029.33 | K67: 1046.25 | L67: 1041.43 | M67: 1024.15 | N67: =AVERAGE(B67:M67) -> 1024.3283
A68: 2006년 | B68: 987.03 | C68: 970.22 | D68: 975.09 | E68: 954.44 | F68: 941.4 | G68: 955.16 | H68: 950.15 | I68: 960.72 | J68: 953.68 | K68: 954.23 | L68: 936.22 | M68: 925.75 | N68: =AVERAGE(B68:M68) -> 955.34083
A69: 2007년 | B69: 936.36 | C69: 937.02 | D69: 943.26 | E69: 931.5 | F69: 927.91 | G69: 928.32 | H69: 918.85 | I69: 933.8 | J69: 932.41 | K69: 915.86 | L69: 916.98 | M69: 930.24 | N69: =AVERAGE(B69:M69) -> 929.37583
A70: 2008년 | B70: 942.39 | C70: 944.69 | D70: 979.86 | E70: 986.66 | F70: 1036.73 | G70: 1029.27 | H70: 1019.12 | I70: 1041.54 | J70: 1130.4 | K70: 1326.92 | L70: 1390.09 | M70: 1373.84 | N70: 1102.59
A71: 2009년 | B71: 1346.1 | C71: 1429.46 | D71: 1461.98 | E71: 1341.9 | F71: 1258.71 | G71: 1261.35 | H71: 1263.97 | I71: 1238.4 | J71: 1219.15 | K71: 1175.25 | L71: 1164.23 | M71: 1166.45 | N71: 1276.4
A72: 2010년 | B72: 1138.82 | C72: 1157.08 | D72: 1137.64 | E72: 1117.11 | F72: 1163.11 | G72: 1212.33 | H72: 1207.3 | I72: 1179.92 | J72: 1167.01 | K72: 1123.45 | L72: 1126.2 | M72: 1147.55 | N72: 1156.26
A73: 2011년 | B73: 1120.07 | C73: 1118.14 | D73: 1122.45 | E73: 1086.84 | F73: 1083.54 | G73: 1081.27 | H73: 1059.5 | I73: 1073.17 | J73: 1118.61 | K73: 1155.45 | L73: 1132.31 | M73: 1147.45 | N73: 1108.11
A74: 2012년 | B74: 1145.85 | C74: 1123.35 | D74: 1125.9 | E74: 1135.55 | F74: 1154.27 | G74: 1165.51 | H74: 1143.36 | I74: 1131.69 | J74: 1124.78 | K74: 1106.93 | L74: 1087.52 | M74: 1076.97 | N74: 1126.88
A75: 2013년 | B75: 1065.35 | C75: 1086.68 | D75: 1102.2 | E75: 1121.83 | F75: 1110.67 | G75: 1135.21 | H75: 1127.23 | I75: 1116.98 | J75: 1087.35 | K75: 1066.8 | L75: 1062.82 | M75: 1056.67 | N75: 1095.04
A76: 2014년 | B76: 1064.75 | C76: 1071.3 | D76: 1070.89 | E76: 1044.55 | F76: 1024.99 | G76: 1019.36 | H76: 1019.93 | I76: 1025.36 | J76: 1033.24 | K76: 1060.28 | L76: 1095.1 | M76: 1104.33 | N76: 1053.22
A77: 2015년 | B77: 1088.86 | C77: 1098.4 | D77: 1112.57 | E77: 1088.66 | F77: 1091.27 | G77: 1112.2 | H77: 1143.22 | I77: 1179.1 | J77: 1184.76 | K77: 1148.18 | L77: 1151.97 | M77: 1172.24 | N77: 1131.49
A78: 2016년 | B78: 1201.67 | C78: 1217.35 | D78: 1188.21 | E78: 1147.51 | F78: 1171.51 | G78: 1170.5 | H78: 1144.09 | I78: 1111.68 | J78: 1107.49 | K78: 1125.28 | L78: 1161.64 | M78: 1182.28 | N78: 1160.5
A79: 2017년 | B79: 1185.1 | C79: 1144.92 | D79: 1134.77 | E79: 1132.73 | F79: 1125.28 | G79: 1130.04 | H79: 1134.4 | I79: 1130.79 | J79: 1131.59 | K79: 1131.57 | L79: 1105.04 | M79: 1085.78 | N79: 1130.84
A80: 2018년 | B80: 1066.7 | C80: 1079.58 | D80: 1071.89 | E80: 1067.76 | F80: 1076.39 | G80: 1092.8 | H80: 1122.8 | I80: 1121.15 | J80: 1120.6 | K80: 1130.81 | L80: 1128.58 | M80: 1122.9 | N80: 1100.3
A81: 2019년 | B81: 1122 | C81: 1122.45 | D81: 1130.72 | E81: 1140.95 | F81: 1183.29 | G81: 1175.62 | H81: 1175.31 | I81: 1208.98 | J81: 1197.55 | K81: 1184.13 | L81: 1167.45 | M81: 1175.84 | N81: 1165.65
... A85: 2023년 | B85: 1247.25 | C85: 1270.74 | D85: 1305.73 | E85: 1320.01 | F85: 1328.21 | G85: 1296.71 | H85: 1286.3 | I85: 1318.47 | J85: 1329.47 | K85: 1350.69 | L85: 1310.39 | M85: 1303.98 | N85: 1305.41
A86: 2024년 | B86: 1323.57 | C86: =1331.74 -> 1331.74 | D86: 1330.7 | E86: 1367.83 | F86: 1365.39 | G86: 1380.13 | H86: 1383.38 | I86: 1354.15 | J86: 1336.76 | N86: 1353.41
A87: 전월대비 | B87: =B86-M85 -> 19.59 | C87: =C86-B86 -> 8.17 | D87: =D86-C86 -> -1.04 | E87: =E86-D86 -> 37.13 | F87: =F86-E86 -> -2.44 | G87: =G86-F86 -> 14.74 | H87: =H86-G86 -> 3.25 | I87: =I86-H86 -> -29.23 | J87: =J86-I86 -> -17.39
A89: 4. CURRENCY (EURO) AVERAGE - 외환은행 고시환율 (매매기준율)
A90: 구분 | B90: 1월 | C90: 2월 | D90: 3월 | E90: 4월 | F90: 5월 | G90: 6월 | H90: 7월 | I90: 8월 | J90: 9월 | K90: 10월 | L90: 11월 | M90: 12월 | N90: AVG
A91: 2018년 | B91: 1299.57 | C91: 1332.23 | D91: 1322.89 | E91: 1311.84 | F91: 1271.8 | G91: 1261.76 | H91: 1298.35 | I91: 1282.56 | J91: 1304.74 | K91: 1299.55 | L91: 1282.44 | M91: 1277 | N91: 1298.63
A92: 2019년 | B92: 1281.52 | C92: 1272.47 | D92: 1278.47 | E92: 1281.77 | F92: 1323.65 | G92: 1327.32 | H92: 1319.42 | I92: 1345.55 | J92: 1318.51 | K92: 1309.03 | L92: 1290.56 | M92: 1306.26 | N92: 1304.81
A93: 2020년 | B93: 1293.7 | C93: 1302.33 | D93: 1350.35 | E93: 1331.71 | F93: 1338.74 | G93: 1361.77 | H93: 1372.98 | I93: 1403.36 | J93: 1391.02 | K93: 1347.55 | L93: 1320.66 | M93: 1331.75 | N93: 1345.99
A94: 2021년 | B94: 1336.31 | C94: 1344.6 | D94: 1346.74 | E94: 1338.47 | F94: 1363.91 | G94: 1351.94 | H94: 1364.13 | I94: 1365.63 | J94: 1378.19 | K94: 1372.24 | L94: 1350.43 | M94: 1338.19 | N94: 1352.79
A95: 2022년 | B95: 1353.2 | C95: 1359.89 | D95: 1345.33 | E95: 1334.08 | F95: 1342.43 | G95: 1348.96 | H95: 1332.91 | I95: 1334.53 | J95: 1377.09 | K95: 1404.83 | L95: 1388.29 | M95: 1371.13 | N95: 1357.38
A96: 2023년 | B96: 1342.37 | C96: 1361.65 | D96: 1398.5 | E96: 1446.41 | F96: 1444.2 | G96: 1405.98 | H96: 1421.87 | I96: 1439.04 | J96: 1422.61 | K96: 1427.31 | L96: 1415.59 | M96: 1422.28 | N96: 1412.36
A97: 2024년 | B97: 1444.12 | C97: =1437.52 -> 1437.52 | D97: 1447.27 | E97: 1466.77 | F97: 1476.24 | G97: 1485.57 | H97: 1499.68 | I97: 1491.48 | J97: 1481.23 | N97: 1470.02
A98: 전월대비 | B98: =B97-M96 -> 21.84 | C98: =C97-B97 -> -6.6 | D98: =D97-C97 -> 9.75 | E98: =E97-D97 -> 19.5 | F98: =F97-E97 -> 9.47 | G98: =G97-F97 -> 9.33 | H98: =H97-G97 -> 14.11 | I98: =I97-H97 -> -8.2 | J98: =J97-I97 -> -10.25
A100: 5. LME Sn Cash Settlement AVG
A101: 구분 | B101: 1월 | C101: 2월 | D101: 3월 | E101: 4월 | F101: 5월 | G101: 6월 | H101: 7월 | I101: 8월 | J101: 9월 | K101: 10월 | L101: 11월 | M101: 12월 | N101: AVG
A102: 2010년 | B102: 17714.75 | C102: 16361.75 | D102: 17549.35 | E102: 18683.5 | F102: 17566.05 | G102: 16517.5 | H102: 18191.36 | I102: 20754.76 | J102: 22701.14 | K102: 26342.62 | L102: 25519.09 | M102: 26163.33 | N102: 21807.076
A103: 2011년 | B103: 27465.25 | C103: 31526 | D103: 30739.57 | E103: 32460.56 | F103: 28733.5 | G103: 25576.36 | H103: 27312.86 | I103: 24418.64 | J103: 22655.23 | K103: 21792.62 | L103: 21255.23 | M103: 19422.5 | N103: 22830.538
A104: 2012년 | B104: 21461.19 | C104: 24342.619 | D104: 23016.136 | E104: 22091.579 | F104: 20370.682 | G104: 19262.632 | H104: 18612.5 | I104: 18645.227 | J104: 20696.75 | K104: 21320.652 | L104: 20700.227 | M104: 22844.21 | N104: 21093.43
A105: 2013년 | B105: 24659.32 | C105: 24326.25 | D105: 23337 | E105: 21694.048 | F105: 20725 | G105: 20266 | H105: 19588.7 | I105: 21628.81 | J105: 22746.9 | K105: 23128.26 | L105: 22856.67 | M105: 22835 | N105: 22258.63
A106: 2014년 | B106: 22071.59 | C106: 22809.25 | D106: 23098.33 | E106: 23421.75 | F106: 23313.75 | G106: 22773.81 | H106: 22382.83 | I106: 22294 | J106: 21124.55 | K106: 19909.13 | L106: 19969 | M106: 19825.71 | N106: 21892.65
A107: 2015년 | B107: 19463.1 | C107: 18292 | D107: 17460.45 | E107: 15985.5 | F107: 15827.37 | G107: 15015.227 | H107: 14961.96 | I107: 15228.5 | J107: 15481.36 | K107: 15848.18 | L107: 14742.62 | M107: 14702.381 | N107: 16070.158
A108: 2016년 | B108: 13777.25 | C108: 15654.29 | D108: 16995.952 | E108: 17067.619 | F108: 16745.75 | G108: 16985.227 | H108: 17833.095 | I108: 18413.409 | J108: 19589.77 | K108: 20182.38 | L108: 21235 | M108: 21286.25 | N108: 18005.929
A109: 2017년 | B109: 20749.762 | C109: 19491.5 | D109: 19831.522 | E109: 19991.389 | F109: 20230.95 | G109: 19701.818 | H109: 20272.857 | I109: 20570 | J109: 20855.476 | K109: 20468.864 | L109: 19574.545 | M109: 19440 | N109: 20104.702
A110: 2018년 | B110: 20710.682 | C110: 21693.5 | D110: 21214.048 | E110: 21339.5 | F110: 20899.762 | G110: 20663.1 | H110: 19700.455 | I110: 19278.41 | J110: 18998.75 | K110: 19129.13 | L110: 19139.318 | M110: 19242.632 | N110: 20153.221
A111: 2019년 | B111: 20480 | C111: 21268 | D111: 21444.286 | E111: 20683.75 | F111: 19530.952 | G111: 19176.5 | H111: 17991.304 | I111: 16577.143 | J111: 16839.762 | K111: 16603.043 | L111: 16369.286 | M111: 17100.75 | N111: 18643.478
A112: 2020년 | B112: 17071.136 | C112: 16456.5 | D112: 15321.409 | E112: 15039.35 | F112: 15408.526 | G112: 16806.273 | H112: 17450.348 | I112: 17671.9 | J112: 17945.955 | K112: 18154.091 | L112: 18567.905 | M112: 19727.333 | N112: 17158.465
A113: 2021년 | B113: 21955.45 | C113: 26717.3 | D113: 27396.304 | E113: 28508.1 | F113: 32524.263 | G113: 32677.73 | H113: 34183 | I113: 35252.62 | J113: 35048.23 | K113: ='Sn 가격및재고'!G2558 -> 37962.381 | L113: ='Sn 가격및재고'!G2580 -> 39332.727 | M113: ='Sn 가격및재고'!G2603 -> 39573.81 | N113: ='Sn 가격및재고'!H2603 -> 32678.162
...

Sheet Sn 월별평균

Sheet Sheet1
A3: LME PRICE SIMULATION
A5: 9/13일 기준
A6: LME PRICE | B6: 2000 | C6: 2050 | D6: 2100 | E6: 2150 | F6: 2200 | G6: 2250 | H6: 2300 | I6: 2350
A7: YTD | B7: 1999.6 | C7: 2014.76 | D7: 2029.92 | E7: 2045.07 | F7: 2060.23 | G7: 2075.39 | H7: 2090.55 | I7: 2105.7
A9: 1. 9/14일 ~ 12/31일까지 상기 LME 가격을 유지할 경우 예상되는 YTD
A10: 2. LME 일자는 실제 시장 오픈 일자와 동일함.
