Workbook
Name _00Al3: #REF!
Name _00AlC: #REF!
Name _00AuD: #REF!
Name _00AuDollar: #REF!
Name _00Cu3: #REF!
Name _00CuC: #REF!
Name _00Ni3: #REF!
Name _00NiC: #REF!
Name _00Pb3: #REF!
Name _00PbC: #REF!
Name _00Sn3: #REF!
Name _00SnC: #REF!
Name _00Zn3: #REF!
Name _00ZnC: #REF!
Name _01Aa3: #REF!
Name _01AaC: #REF!
Name _01Al3: #REF!
Name _01AlC: #REF!
Name _01AuD: #REF!
Name _01Cu3: #REF!
Name _01CuC: #REF!
Name _01Ni3: #REF!
Name _01NiC: #REF!
Name _01Pb3: #REF!
Name _01PbC: #REF!
Name _01Sn3: #REF!
Name _01SnC: #REF!
Name _01Zn3: #REF!
Name _01ZnC: #REF!
Name _02Aa3: #REF!
Name _02AaC: #REF!
Name _02Al3: #REF!
Name _02AlC: #REF!
Name _02AuD: #REF!
Name _02Cu3: #REF!
Name _02CuC: #REF!
Name _02EUR: #REF!
Name _02Na3: #REF!
Name _02NaC: #REF!
Name _02Ni3: #REF!
Name _02NiC: #REF!
Name _02Pb3: #REF!
Name _02PbC: #REF!
Name _02Sn3: #REF!
Name _02SnC: #REF!
Name _02Zn3: #REF!
Name _02ZnC: #REF!
Name _03Aa3: #REF!
Name _03AaC: #REF!
Name _03Al3: #REF!
Name _03AlC: #REF!
Name _03AuD: #REF!
Name _03Cu3: #REF!
Name _03CuC: #REF!
Name _03EUR: #REF!
Name _03Na3: #REF!
Name _03NaC: #REF!
Name _03Ni3: #REF!
Name _03NiC: #REF!
Name _03Pb3: #REF!

Sheet Pb 가격및재고
A1: DATE | F1: STOCK In & Out | H1: C/W | J1: 거래량 | K1: CASH | L1: 3-Month | M1: Spread | N1: 월평균 | O1: 년평균 | P1: SHMET(중국) | V1: 월평균 | W1: USD환산 | X1: SHMET/LME Ratio
B2: Asia | C2: USA | D2: EUROPE | E2: TOTAL | F2: IN | G2: OUT | H2: Qty | I2: Per | J2: (Lot) | P2: SHMET(중국) | Q2: CROSS RATE | U2: 수출세
A3: 35800 | B3: 0 | E3: 111300 | K3: 565 | L3: 565.5
A4: 35801 | B4: 0 | E4: 111425 | K4: 545 | L4: 555 | M4: =L4-K4 -> 10
A5: 35802 | B5: 0 | E5: 111325 | K5: 549 | L5: 555 | M5: =+K5-K4 -> 4
A6: 35803 | B6: 0 | E6: 111350 | K6: 571 | L6: 573.5 | M6: =+K6-K5 -> 22
A7: 35804 | B7: 0 | E7: 111325 | K7: 580 | L7: 582 | M7: =+K7-K6 -> 9
A8: 35807 | B8: 0 | E8: 111075 | K8: 548 | L8: 554 | M8: =+K8-K7 -> -32
A9: 35808 | B9: 0 | E9: 112025 | K9: 543 | L9: 548 | M9: =+K9-K8 -> -5
A10: 35809 | B10: 0 | E10: 111650 | K10: 531 | L10: 536 | M10: =+K10-K9 -> -12
A11: 35810 | B11: 0 | E11: 111375 | K11: 498 | L11: 505 | M11: =+K11-K10 -> -33
A12: 35811 | B12: 0 | E12: 111350 | K12: 520 | L12: 524.5 | M12: =+K12-K11 -> 22
A13: 35814 | B13: 0 | E13: 110825 | K13: 504 | L13: 514 | M13: =+K13-K12 -> -16
A14: 35815 | B14: 0 | E14: 110750 | K14: 510 | L14: 519 | M14: =+K14-K13 -> 6
A15: 35816 | B15: 0 | E15: 110725 | K15: 534.5 | L15: 538 | M15: =+K15-K14 -> 24.5
A16: 35817 | B16: 0 | E16: 110550 | K16: 520 | L16: 525 | M16: =+K16-K15 -> -14.5
... A463: 36461 | B463: 0 | E463: 170850 | K463: 493 | L463: 506 | M463: =+K463-K462 -> 1
A464: 36462 | B464: 0 | E464: 171225 | K464: 494.5 | L464: 505.5 | M464: =L464-K464 -> 11
A465: 36465 | B465: 0 | E465: 171150 | K465: 491 | L465: 503.5 | M465: =L465-K465 -> 12.5
A466: 36466 | B466: 0 | E466: 171125 | K466: 487.5 | L466: 498 | M466: =L466-K466 -> 10.5
A467: 36467 | B467: 0 | E467: 171475 | K467: 484.5 | L467: 495 | M467: =L467-K467 -> 10.5
A468: 36468 | B468: 0 | E468: 171400 | K468: 484.5 | L468: 495 | M468: =L468-K468 -> 10.5
A469: 36469 | B469: 0 | E469: 171300 | K469: 481.5 | L469: 491.5 | M469: =L469-K469 -> 10
A470: 36472 | B470: 0 | E470: 171700 | K470: 480 | L470: 489 | M470: =L470-K470 -> 9
A471: 36473 | B471: 0 | E471: 174275 | K471: 472.5 | L471: 482 | M471: =L471-K471 -> 9.5
A472: 36474 | B472: 0 | E472: 172975 | K472: 476 | L472: 486 | M472: =L472-K472 -> 10
A473: 36475 | B473: 0 | E473: 172875 | K473: 474.5 | L473: 485 | M473: =L473-K473 -> 10.5
A474: 36476 | B474: 0 | E474: 172700 | K474: 471.5 | L474: 483 | M474: =L474-K474 -> 11.5
A475: 36479 | B475: 0 | E475: 171450 | K475: 463 | L475: 477 | M475: =L475-K475 -> 14
... A758: 36889 | B758: 0 | E758: 130125 | K758: 471 | L758: 484 | M758: =L758-K758 -> 13
A759: 36893 | B759: 76375 | C759: 7875 | D759: =E759-(#REF!+C759) -> #REF! | E759: 130650 | K759: 467 | L759: 482 | M759: =L759-K759 -> 15
A760: 36894 | B760: 76875 | C760: 7875 | D760: =E760-(#REF!+C760) -> #REF! | E760: 131150 | K760: 472 | L760: 485 | M760: =L760-K760 -> 13
A761: 36895 | B761: 76850 | C761: 7875 | D761: =E761-(#REF!+C761) -> #REF! | E761: 131075 | K761: 481.5 | L761: 495 | M761: =L761-K761 -> 13.5
A762: 36896 | B762: 76850 | C762: 7875 | D762: =E762-(#REF!+C762) -> #REF! | E762: 130875 | K762: 471 | L762: 485 | M762: =L762-K762 -> 14
A763: 36899 | B763: 76850 | C763: 7875 | D763: =E763-(#REF!+C763) -> #REF! | E763: 130800 | K763: 467 | L763: 482 | M763: =L763-K763 -> 15
A764: 36900 | B764: 76625 | C764: 7875 | D764: =E764-(#REF!+C764) -> #REF! | E764: 130450 | K764: 477.5 | L764: 492 | M764: =L764-K764 -> 14.5
A765: 36901 | B765: 76575 | C765: 7875 | D765: =E765-(#REF!+C765) -> #REF! | E765: 130175 | K765: 473 | L765: 486 | M765: =L765-K765 -> 13
A766: 36902 | B766: 76425 | C766: 7875 | D766: =E766-(#REF!+C766) -> #REF! | E766: 129875 | K766: 466 | L766: 481 | M766: =L766-K766 -> 15
A767: 36903 | B767: 76150 | C767: 7875 | D767: =E767-(#REF!+C767) -> #REF! | E767: 129475 | K767: 467.5 | L767: 479 | M767: =L767-K767 -> 11.5
A768: 36906 | B768: 76050 | C768: 7875 | D768: =E768-(#REF!+C768) -> #REF! | E768: 129300 | K768: 466.5 | L768: 480.5 | M768: =L768-K768 -> 14
...

Sheet Sb 안티모니
A1: 안티모니 99.65%
A2: DATE | B2: BUY | C2: SELL | D2: AVG | E2: 월AVG | F2: 년AVG | G2: 분기AVG | H2: 환율 | I2: Sb단가(KRW)
A3: 39084 | D3: 5350
A4: 39085 | D4: 5350
A5: 39086 | D5: 5350
A6: 39087 | D6: 5350
A7: 39090 | D7: 5350
A8: 39091 | D8: 5350
A9: 39092 | D9: 5350
A10: 39093 | D10: 5350
A11: 39094 | D11: 5350
A12: 39097 | D12: 5350
A13: 39098 | D13: 5350
A14: 39099 | D14: 5350
... A20: 39107 | D20: 5350
A21: 39108 | D21: 5350 | E21: =AVERAGE(D3:D21) -> 5350
A22: 39114 | D22: 5350
A23: 39115 | D23: 5350
A24: 39118 | D24: 5350
A25: 39119 | D25: 5350
A26: 39120 | D26: 5350
A27: 39121 | D27: 5350
A28: 39122 | D28: 5350
A29: 39125 | D29: 5350
A30: 39126 | D30: 5350
A31: 39127 | D31: 5350
A32: 39128 | D32: 5350
A33: 39129 | D33: 5350
... A40: 39140 | D40: 5450
A41: 39141 | D41: 5450 | E41: =AVERAGE(D22:D41) -> 5370
A42: 39142 | D42: 5450
A43: 39143 | D43: 5450
A44: 39146 | D44: 5450
A45: 39147 | D45: 5450
A46: 39148 | D46: 5450
A47: 39149 | D47: 5450
A48: 39150 | D48: 5450
A49: 39153 | D49: 5450
A50: 39154 | D50: 5475
A51: 39155 | D51: 5475
...

Sheet Pb 그래프
A1: 날짜 | B1: STOCK | C1: LME | D1: SHMET | E1: SHMET/10
A2: 39084 | B2: 41050 | C2: 1725 | D2: 14550 | E2: =D2/10 -> 1455
A3: 39085 | B3: 41050 | C3: 1660 | D3: 14550 | E3: =D3/10 -> 1455
A4: 39086 | B4: 43125 | C4: 1722 | D4: 14650 | E4: =D4/10 -> 1465
A5: 39087 | B5: 42850 | C5: 1695 | D5: 14575 | E5: =D5/10 -> 1457.5
A6: 39090 | B6: 43550 | C6: 1600 | D6: 14525 | E6: =D6/10 -> 1452.5
A7: 39091 | B7: 43300 | C7: 1596 | D7: 14525 | E7: =D7/10 -> 1452.5
A8: 39092 | B8: 42400 | C8: 1625 | D8: 14500 | E8: =D8/10 -> 1450
A9: 39093 | B9: 41500 | C9: 1634.5 | D9: 14550 | E9: =D9/10 -> 1455
A10: 39094 | B10: 41050 | C10: 1665 | D10: 14550 | E10: =D10/10 -> 1455
A11: 39097 | B11: 40475 | C11: 1650 | D11: 14500 | E11: =D11/10 -> 1450
A12: 39098 | B12: 39950 | C12: 1632 | D12: 14500 | E12: =D12/10 -> 1450
A13: 39099 | B13: 40300 | C13: 1575 | D13: 14425 | E13: =D13/10 -> 1442.5
... A104: 39227 | B104: 46900 | C104: 2156 | D104: 16525 | E104: =D104/10 -> 1652.5
B105: 46900 | C105: 2156 | D105: 16575 | E105: =D105/10 -> 1657.5
A106: 39231 | B106: 46700 | C106: 2205 | D106: 16650 | E106: =D106/10 -> 1665
A107: 39232 | B107: 46800 | C107: 2280 | D107: 16700 | E107: =D107/10 -> 1670
A108: 39233 | B108: 47625 | C108: 2349 | D108: 16750 | E108: =D108/10 -> 1675
A109: 39234 | B109: 47600 | C109: 2351 | D109: 16850 | E109: =D109/10 -> 1685
A110: 39237 | B110: 47650 | C110: 2336 | D110: 16825 | E110: =D110/10 -> 1682.5
A111: 39238 | B111: 48250 | C111: 2325.5 | D111: 16825 | E111: =D111/10 -> 1682.5
A112: 39239 | B112: 47775 | C112: 2315.5 | D112: 16800 | E112: =D112/10 -> 1680
A113: 39240 | B113: 47075 | C113: 2305 | D113: 16775 | E113: =D113/10 -> 1677.5
A114: 39241 | B114: 46275 | C114: 2255 | D114: 16725 | E114: =D114/10 -> 1672.5
A115: 39244 | B115: 45275 | C115: 2315 | D115: 16725 | E115: =D115/10 -> 1672.5
A116: 39245 | B116: 44175 | C116: 2315 | D116: 16825 | E116: =D116/10 -> 1682.5
A117: 39246 | B117: 43300 | C117: 2288.5 | D117: 16875 | E117: =D117/10 -> 1687.5
... A253: 39437 | B253: 43325 | C253: 2655 | D253: 18900 | E253: =D253/10 -> 1890
B254: 43325 | C254: 2655 | D254: 19150 | E254: =D254/10 -> 1915
B255: 43325 | C255: 2655 | D255: 19500 | E255: =D255/10 -> 1950
B256: 43325 | C256: 2655 | D256: 19500 | E256: =D256/10 -> 1950
A257: 39443 | B257: 43250 | C257: 2650 | D257: 19500 | E257: =D257/10 -> 1950
A258: 39444 | B258: 45500 | C258: 2561 | D258: 19500 | E258: =D258/10 -> 1950
A259: 39447 | B259: 45475 | C259: 2532 | D259: 19500 | E259: =D259/10 -> 1950
A260: 39449 | B260: 45350 | C260: 2580 | D260: 19300 | E260: =D260/10 -> 1930
A261: 39450 | B261: 46750 | C261: 2593 | D261: 19200 | E261: =D261/10 -> 1920
A262: 39451 | B262: 46850 | C262: 2665 | D262: 19400 | E262: =D262/10 -> 1940
A263: 39454 | B263: 48900 | C263: 2601 | D263: 19300 | E263: =D263/10 -> 1930
A264: 39455 | B264: 49200 | C264: 2580.5 | D264: 19450 | E264: =D264/10 -> 1945
A265: 39456 | B265: 49300 | C265: 2630 | D265: 19500 | E265: =D265/10 -> 1950
...

Sheet Ni 월별평균

Sheet Se 가격
A1: 셀레늄
A2: DATE | B2: BUY | C2: SELL | D2: AVG | E2: $/ton | F2: 월 AVG | G2: 분기AVG
A3: 41641 | B3: 24 | C3: 28 | D3: =AVERAGE(B3:C3) -> 26 | E3: 57320.235
A4: 41642 | B4: 24 | C4: 28 | D4: =AVERAGE(B4:C4) -> 26 | E4: 57320.235
A5: 41645 | B5: 24 | C5: 28 | D5: =AVERAGE(B5:C5) -> 26 | E5: 57320.235
A6: 41646 | B6: 24 | C6: 28 | D6: =AVERAGE(B6:C6) -> 26 | E6: 57320.235
A7: 41647 | B7: 24 | C7: 28 | D7: =AVERAGE(B7:C7) -> 26 | E7: 57320.235
A8: 41648 | B8: 24 | C8: 28 | D8: =AVERAGE(B8:C8) -> 26 | E8: 57320.235
A9: 41649 | B9: 24 | C9: 28 | D9: =AVERAGE(B9:C9) -> 26 | E9: 57320.235
A10: 41652 | B10: 24 | C10: 28 | D10: =AVERAGE(B10:C10) -> 26 | E10: 57320.235
A11: 41653 | B11: 24 | C11: 28 | D11: =AVERAGE(B11:C11) -> 26 | E11: 57320.235
A12: 41654 | B12: 24 | C12: 28 | D12: =AVERAGE(B12:C12) -> 26 | E12: 57320.235
A13: 41655 | B13: 24 | C13: 28 | D13: =AVERAGE(B13:C13) -> 26 | E13: 57320.235
A14: 41656 | B14: 24 | C14: 28 | D14: =AVERAGE(B14:C14) -> 26 | E14: 57320.235
... A23: 41669 | B23: 24 | C23: 28 | D23: =AVERAGE(B23:C23) -> 26 | E23: 57320.235
A24: 41670 | B24: 24 | C24: 28 | D24: =AVERAGE(B24:C24) -> 26 | E24: 57320.235 | F24: =AVERAGE(E3:E24) -> 57320.235
A25: 41673 | B25: 24 | C25: 28 | D25: =AVERAGE(B25:C25) -> 26 | E25: 57320.235
A26: 41674 | B26: 24 | C26: 28 | D26: =AVERAGE(B26:C26) -> 26 | E26: 57320.235
A27: 41675 | B27: 24 | C27: 28 | D27: =AVERAGE(B27:C27) -> 26 | E27: 57320.235
A28: 41676 | B28: 24 | C28: 28 | D28: =AVERAGE(B28:C28) -> 26 | E28: 57320.235
A29: 41677 | B29: 24 | C29: 28 | D29: =AVERAGE(B29:C29) -> 26 | E29: 57320.235
A30: 41680 | B30: 24 | C30: 28 | D30: =AVERAGE(B30:C30) -> 26 | E30: 57320.235
A31: 41681 | B31: 24 | C31: 28 | D31: =AVERAGE(B31:C31) -> 26 | E31: 57320.235
A32: 41682 | B32: 24 | C32: 28 | D32: =AVERAGE(B32:C32) -> 26 | E32: 57320.235
A33: 41683 | B33: 24 | C33: 28 | D33: =AVERAGE(B33:C33) -> 26 | E33: 57320.235
A34: 41684 | B34: 25 | C34: 28.5 | D34: =AVERAGE(B34:C34) -> 26.75 | E34: 58973.7
A35: 41687 | B35: 25 | C35: 28.5 | D35: =AVERAGE(B35:C35) -> 26.75 | E35: 58973.7
A36: 41688 | B36: 25 | C36: 28.5 | D36: =AVERAGE(B36:C36) -> 26.75 | E36: 58973.7
A37: 41689 | B37: 25.5 | C37: 28.5 | D37: =AVERAGE(B37:C37) -> 27 | E37: 59524.86
A38: 41690 | B38: 25.5 | C38: 28.5 | D38: =AVERAGE(B38:C38) -> 27 | E38: 59524.86 | J38: Se 톤당 달러가격계산 | L38: buy | M38: sell | N38: Ave($/lb) | O38: $/1kg | P38: $/1t
A39: 41691 | B39: 25.5 | C39: 29 | D39: =AVERAGE(B39:C39) -> 27.25 | E39: 60076.02 | L39: 25 | M39: 28 | N39: =(L39+M39)/2 -> 26.5 | O39: =N39/P45 -> 58.422547 | P39: =O39*1000 -> 58422.547
A40: 41694 | B40: 25.5 | C40: 29 | D40: =AVERAGE(B40:C40) -> 27.25 | E40: 60076.02
A41: 41695 | B41: 25.5 | C41: 29 | D41: =AVERAGE(B41:C41) -> 27.25 | E41: 60076.02
A42: 41696 | B42: 25.5 | C42: 29 | D42: =AVERAGE(B42:C42) -> 27.25 | E42: 60076.02
A43: 41697 | B43: 25.5 | C43: 29 | D43: =AVERAGE(B43:C43) -> 27.25 | E43: 60076.02
A44: 41698 | B44: 25.5 | C44: 29 | D44: =AVERAGE(B44:C44) -> 27.25 | E44: 60076.02 | F44: =AVERAGE(E25:E44) -> 58615.453 | G44: =AVERAGE(E3:E44) -> 57937.005 | P44: 환산단위(1kg)
A45: 41701 | B45: 25.5 | C45: 29 | D45: =AVERAGE(B45:C45) -> 27.25 | E45: 60076.02 | P45: 0.453592
A46: 41702 | B46: 25.5 | C46: 29 | D46: =AVERAGE(B46:C46) -> 27.25 | E46: 60076.02
A47: 41703 | B47: 25.5 | C47: 29 | D47: =AVERAGE(B47:C47) -> 27.25 | E47: 60076.02
A48: 41704 | B48: 25.5 | C48: 29 | D48: =AVERAGE(B48:C48) -> 27.25 | E48: 60076.02
...

Sheet Sn 가격및재고
A1: DATE | B1: STOCK | C1: Cash | D1: 3-Month | E1: Spread | F1: Cash 차이 | G1: 월평균 | H1: 년평균 | I1: SHMET(중국)
B2: TOTAL | I2: CASH
A3: 40910 | B3: 휴 장(Holidays) | I3: 휴 장(Holidays) | K3: =AVERAGE(C4:C18) -> 20722.667
A4: 40911 | B4: 12095 | C4: 19450 | D4: 19495 | E4: =D4-C4 -> 45 | F4: =+C4-#REF! -> #REF!
A5: 40912 | B5: 11795 | C5: 19675 | D5: 19750 | E5: =D5-C5 -> 75 | F5: =+C5-C4 -> 225
A6: 40913 | B6: 11360 | C6: 19415 | D6: 19450 | E6: =D6-C6 -> 35 | F6: =+C6-C5 -> -260
A7: 40914 | B7: 11335 | C7: 19750 | D7: 19800 | E7: =D7-C7 -> 50 | F7: =+C7-C6 -> 335
A8: 40917 | B8: 11330 | C8: 20100 | D8: 20100 | E8: =D8-C8 -> 0 | F8: =+C8-C7 -> 350
A9: 40918 | B9: 11270 | C9: 20075 | D9: 20010 | E9: =D9-C9 -> -65 | F9: =+C9-C8 -> -25
A10: 40919 | B10: 11250 | C10: 20300 | D10: 20350 | E10: =D10-C10 -> 50 | F10: =+C10-C9 -> 225
A11: 40920 | B11: 11250 | C11: 21100 | D11: 21100 | E11: =D11-C11 -> 0 | F11: =+C11-C10 -> 800
A12: 40921 | B12: 11205 | C12: 21090 | D12: 21100 | E12: =D12-C12 -> 10 | F12: =+C12-C11 -> -10
A13: 40924 | B13: 11160 | C13: 20900 | D13: 20905 | E13: =D13-C13 -> 5 | F13: =+C13-C12 -> -190
A14: 40925 | B14: 10935 | C14: 21600 | D14: 21650 | E14: =D14-C14 -> 50 | F14: =+C14-C13 -> 700
A15: 40926 | B15: 10885 | C15: 21600 | D15: 21650 | E15: =D15-C15 -> 50 | F15: =+C15-C13 -> 700
A16: 40927 | B16: 10745 | C16: 22000 | D16: 22005 | E16: =D16-C16 -> 5 | F16: =+C16-C15 -> 400
A17: 40928 | B17: 9800 | C17: 21850 | D17: 21925 | E17: =D17-C17 -> 75 | F17: =+C17-C16 -> -150 | I17: 173000
A18: 40931 | B18: 9705 | C18: 21935 | D18: 22050 | E18: =D18-C18 -> 115 | F18: =+C18-C17 -> 85 | I18: 휴 장(Holidays)
A19: 40932 | B19: 9685 | C19: 21860 | D19: 22000 | E19: =D19-C19 -> 140 | F19: =+C19-C18 -> -75
A20: 40933 | B20: 9685 | C20: 22005 | D20: 22145 | E20: =D20-C20 -> 140 | F20: =+C20-C19 -> 145
A21: 40934 | B21: 9664 | C21: 23330 | D21: 23400 | E21: =D21-C21 -> 70 | F21: =+C21-C20 -> 1325
A22: 40935 | B22: 9365 | C22: 24310 | D22: 24325 | E22: =D22-C22 -> 15 | F22: =+C22-C21 -> 980
A23: 40938 | B23: 9315 | C23: 24050 | D23: 24005 | E23: =D23-C23 -> -45 | F23: =+C23-C22 -> -260 | I23: 181000
A24: 40939 | B24: 9100 | C24: 24290 | D24: 24325 | E24: =D24-C24 -> 35 | F24: =+C24-C23 -> 240 | G24: =AVERAGE(C4:C24) -> 21461.19 | H24: =AVERAGE(C4:C24) -> 21461.19 | I24: 183000
A25: 40940 | B25: 9175 | C25: 24060 | D25: 24250 | E25: =D25-C25 -> 190 | F25: =+C25-C24 -> -230 | I25: 183000
A26: 40941 | B26: 9200 | C26: 24100 | D26: 24150 | E26: =D26-C26 -> 50 | F26: =+C26-C25 -> 40 | I26: 184500
A27: 40942 | B27: 9240 | C27: 24000 | D27: 24075 | E27: =D27-C27 -> 75 | F27: =+C27-C26 -> -100 | I27: 183500
A28: 40945 | B28: 9400 | C28: 24375 | D28: 24400 | E28: =D28-C28 -> 25 | F28: =+C28-C27 -> 375 | I28: 182500
A29: 40946 | B29: 9125 | C29: 24250 | D29: 24300 | E29: =D29-C29 -> 50 | F29: =+C29-C28 -> -125 | I29: 181000
A30: 40947 | B30: 9090 | C30: 25650 | D30: 25700 | E30: =D30-C30 -> 50 | F30: =+C30-C29 -> 1400 | I30: 179500
A31: 40948 | B31: 9090 | C31: 25160 | D31: 25205 | E31: =D31-C31 -> 45 | F31: =+C31-C30 -> -490 | I31: 179500
A32: 40949 | B32: 9150 | C32: 25500 | D32: 25500 | E32: =D32-C32 -> 0 | F32: =+C32-C31 -> 340 | I32: 179500
A33: 40952 | B33: 9190 | C33: 25325 | D33: 25325 | E33: =D33-C33 -> 0 | F33: =+C33-C32 -> -175 | I33: 181000
A34: 40953 | B34: 9300 | C34: 24800 | D34: 24840 | E34: =D34-C34 -> 40 | F34: =+C34-C33 -> -525 | I34: 180250
A35: 40954 | B35: 9180 | C35: 24535 | D35: 24575 | E35: =D35-C35 -> 40 | F35: =+C35-C34 -> -265 | I35: 178750
A36: 40955 | B36: 10000 | C36: 24005 | D36: 24150 | E36: =D36-C36 -> 145 | F36: =+C36-C35 -> -530 | I36: 178000
... A44: 40967 | B44: 10250 | C44: 24125 | D44: 24125 | E44: =D44-C44 -> 0 | F44: =+C44-C43 -> 650 | I44: 173750
A45: 40968 | B45: 10470 | C45: 24250 | D45: 24300 | E45: =D45-C45 -> 50 | F45: =+C45-C44 -> 125 | G45: =AVERAGE(C25:C45) -> 24342.619 | H45: =AVERAGE(C4:C45) -> 22901.905
A46: 40969 | B46: 10615 | C46: 23880 | D46: 23945 | E46: =D46-C46 -> 65 | F46: =+C46-C45 -> -370 | I46: 173500
A47: 40970 | B47: 11035 | C47: 23650 | D47: 23700 | E47: =D47-C47 -> 50 | F47: =+C47-C46 -> -230 | I47: 173500
...

Sheet 월별평균
A1: 1. LME Pb Cash Settlement AVG | G1: LME 7/11일자 기준
A2: 구분 | B2: 1월 | C2: 2월 | D2: 3월 | E2: 4월 | F2: 5월 | G2: 6월 | H2: 7월 | I2: 8월 | J2: 9월 | K2: 10월 | L2: 11월 | M2: 12월 | N2: AVG
A3: 1989~2000년 | B3: 673.19 | C3: 810.15 | D3: 557.22 | E3: 541.66 | F3: 206.43 | G3: 547.76 | H3: 630.99 | I3: 774 | J3: 624.19 | K3: 528.63 | L3: 502.62 | M3: 453.95 | N3: =AVERAGE(B3:M3) -> 570.89917
A4: 1990년 | B4: 707.66 | C4: 779.93 | D4: 1060.67 | E4: 836.17 | F4: 825.47 | G4: 837.46 | H4: 874.08 | I4: 874.07 | J4: 838.05 | K4: 760.63 | L4: 701.14 | M4: 626.49 | N4: =AVERAGE(B4:M4) -> 810.15167
A5: 1991년 | B5: 600.01 | C5: 593.98 | D5: 604.78 | E5: 600.38 | F5: 555.91 | G5: 548.4 | H5: 546.71 | I5: 539.78 | J5: 538.97 | K5: 522.11 | L5: 505.49 | M5: 530.09 | N5: =AVERAGE(B5:M5) -> 557.2175
A6: 1992년 | B6: 515.69 | C6: 504.68 | D6: 521.38 | E6: 532.79 | F6: 520.56 | G6: 547.59 | H6: 626.45 | I6: 652.46 | J6: 623.74 | K6: 538.92 | L6: 460.52 | M6: 455.16 | N6: =AVERAGE(B6:M6) -> 541.66167
A7: 1993년 | B7: 436.54 | C7: 413.5 | D7: 405.68 | E7: 421.27 | F7: 407.25 | G7: 394.79 | H7: 388.25 | I7: 388.38 | J7: 375.73 | K7: 384.26 | L7: 400.25 | M7: 461.21 | N7: =AVERAGE(B7:M7) -> 406.42583
A8: 1994년 | B8: 490.08 | C8: 485.43 | D8: 451.46 | E8: 439.89 | F8: 473.5 | G8: 525.05 | H8: 580.14 | I8: 570.75 | J8: 613.45 | K8: 641.83 | L8: 667.18 | M8: 634.3 | N8: =AVERAGE(B8:M8) -> 547.755
A9: 1995년 | B9: 666.64 | C9: 580.35 | D9: 585.57 | E9: 608.5 | F9: 596.48 | G9: 611.8 | H9: 621.9 | I9: 623.64 | J9: 592.71 | K9: 639.09 | L9: 713.59 | M9: 731.61 | N9: =AVERAGE(B9:M9) -> 630.99
A10: 1996년 | B10: 709.5 | C10: 769.67 | D10: 813.45 | E10: 815 | F10: 840.24 | G10: 796.53 | H10: 784.09 | I10: 815.67 | J10: 796.57 | K10: 741.89 | L10: 716.55 | M10: 688.78 | N10: =AVERAGE(B10:M10) -> 773.995
A11: 1997년 | B11: 692.25 | C11: 660.23 | D11: 694.63 | E11: 642.48 | F11: 618.6 | G11: 614.93 | H11: 634.33 | I11: 608.1 | J11: 634.43 | K11: 600.26 | L11: 563.4 | M11: 526.62 | N11: =AVERAGE(B11:M11) -> 624.18833
A12: 1998년 | B12: 531.58 | C12: 516.38 | D12: 559.82 | E12: 572.65 | F12: 543.47 | G12: 528.32 | H12: 546.2 | I12: 536.7 | J12: 520.16 | K12: 492.82 | L12: 494.17 | M12: 501.26 | N12: =AVERAGE(B12:M12) -> 528.6275
A13: 1999년 | B13: 492.3 | C13: 513.654 | D13: 507.83 | E13: 519.33 | F13: 541.53 | G13: 496.11 | H13: 495.8 | I13: 503.07 | J13: 507.32 | K13: 497.1 | L13: 478.32 | M13: 479.05 | N13: =AVERAGE(B13:M13) -> 502.61783
A14: 2000년 | B14: 472.08 | C14: 452.38 | D14: 441.3 | E14: 421.14 | F14: 412.12 | G14: 419.59 | H14: 452.12 | I14: 473.09 | J14: 487.05 | K14: 486.14 | L14: 468.02 | M14: 462.34 | N14: =AVERAGE(B14:M14) -> 453.9475
... A18: 2004년 | B18: 758.38 | C18: 888.48 | D18: 886.48 | E18: 753.68 | F18: 808.89 | G18: 870.32 | H18: 939.59 | I18: 921.81 | J18: 935.45 | K18: 932.76 | L18: 967.8 | M18: 974.9 | N18: =AVERAGE(B18:M18) -> 886.545
A19: 2005년 | B19: 953.15 | C19: 977.55 | D19: 1005.83 | E19: 985.76 | F19: 988.08 | G19: 986.07 | H19: 854.48 | I19: 887.02 | J19: 933.07 | K19: 1004.76 | L19: 1018.41 | M19: 1124.08 | N19: =+'Pb 가격및재고'!O2024 -> 975.65476
A20: 2006년 | B20: 1256.33 | C20: 1277.05 | D20: 1192.09 | E20: 1170.42 | F20: 1166.86 | G20: 963.86 | H20: 1052.38 | I20: 1174.14 | J20: 1342.38 | K20: 1531.14 | L20: 1624.52 | M20: 1725.5 | N20: 1287.49
A21: 2007년 | B21: 1666.09 | C21: 1779.6 | D21: 1914.05 | E21: 2000.95 | F21: 2100.64 | G21: 2425.98 | H21: 3083.55 | I21: 3119.45 | J21: 3226.55 | K21: 3719.72 | L21: 3328.18 | M21: 2596.03 | N21: 2594.96
A22: 2008년 | B22: 2608.14 | C22: 3079.88 | D22: 3008.58 | E22: 2822.75 | F22: 2234.63 | G22: 1863.05 | H22: 1944.91 | I22: 1923.58 | J22: 1868.36 | K22: 1480.11 | L22: 1291.1 | M22: 962.88 | N22: 2084.76
A23: 2009년 | B23: 1132.74 | C23: 1100.53 | D23: 1238.91 | E23: 1383.1 | F23: 1440.16 | G23: 1674.45 | H23: 1678.61 | I23: 1900.1 | J23: 2204.55 | K23: 2240.77 | L23: 2308.76 | M23: 2328.52 | N23: 1726.11
A24: 2010년 | B24: 2368.38 | C24: 2123.675 | D24: 2172.087 | E24: 2264.85 | F24: 1882.6842 | G24: 1703.9545 | H24: 1836.9773 | I24: 2075.2381 | J24: 2184.2273 | K24: 2379.6667 | L24: 2376.7273 | M24: 2412.9286 | N24: 2147.5613
A25: 2011년 | B25: 2601.65 | C25: 2586.675 | D25: 2624.1957 | E25: 2741.1389 | F25: 2420.375 | G25: 2512.2045 | H25: 2682.5952 | I25: 2404.7045 | J25: 2298.7955 | K25: 1948.5952 | L25: 1982.0455 | M25: 2018.975 | N25: 2397.8327
A26: 2012년 | B26: 2094.0714 | C26: 2126.119 | D26: 2061.4545 | E26: 2063.0526 | F26: 1998.9091 | G26: 1854.7368 | H26: 1876.3864 | I26: 1895.75 | J26: 2169.275 | K26: 2153.3043 | L26: 2179.4773 | M26: 2275.5 | N26: 2061.39
A27: 2013년 | B27: 2340.27 | C27: 2376.2 | D27: 2183.48 | E27: 2030.26 | F27: 2028.29 | G27: 2103.83 | H27: 2048.24 | I27: 2173.45 | J27: 2088.4 | K27: 2111.46 | L27: 2090.19 | M27: 2133 | N27: 2141.15
A28: 2014년 | B28: 2148.89 | C28: 2110.48 | D28: 2056.36 | E28: 2085.95 | F28: 2097.13 | G28: 2103.31 | H28: 2189.26 | I28: 2236.58 | J28: 2122.25 | K28: 2038.09 | L28: 2023.73 | M28: 1936.1 | N28: 2095.98
A29: 2015년 | B29: 1829.17 | C29: 1804.68 | D29: 1784.98 | E29: 1999.8 | F29: 2003.84 | G29: 1836.34 | H29: 1762.35 | I29: 1692.9 | J29: 1682.05 | K29: 1724.57 | L29: 1615.98 | M29: 1701.29 | N29: 1783.5731
A30: 2016년 | B30: 1646.95 | C30: 1771.57 | D30: 1808.02 | E30: 1728.6667 | F30: 1714.425 | G30: 1713.9091 | H30: 1834.881 | I30: 1838.8864 | J30: 1942.02 | K30: 2039.93 | L30: 2178.8409 | M30: 2230.825 | N30: 1871.5771
A31: 2017년 | B31: 2236.6905 | C31: 2321.73 | D31: 2277.3043 | E31: 2231.3056 | F31: 2131.67 | G31: 2131.1818 | H31: 2266.4048 | I31: 2357.3182 | J31: 2377.2857 | K31: 2506.2955 | L31: 2464.4091 | M31: 2508.8158 | N31: 2317.4563
A32: 2018년 | B32: 2589.7727 | C32: 2580.825 | D32: 2397 | E32: 2357.375 | F32: 2363.881 | G32: 2440.74 | H32: 2212.9091 | I32: 2064.86 | J32: 2028.23 | K32: 1985.1522 | L32: 1940.1591 | M32: 1965.4737 | N32: =AVERAGE(B32:M32) -> 2243.8648
A33: 2019년 | B33: 1994.1591 | C33: 2062.075 | D33: 2054.5714 | E33: 1948.85 | F33: 1817.2143 | G33: 1891.5 | H33: 1974.0217 | I33: 2043.1905 | J33: 2070.8571 | K33: 2184.3043 | L33: 2031.9048 | M33: 1899.25 | N33: =AVERAGE(B33:M33) -> 1997.6582
A34: 2020년 | B34: 1925.1591 | C34: 1872.3 | D34: 1744.6364 | E34: 1651.525 | F34: 1618.1579 | G34: 1739.8636 | H34: 1812.1522 | I34: 1935.2 | J34: 1881.3636 | K34: 1777.0682 | L34: 1914.4762 | M34: 2018.5952 | N34: =AVERAGE(B34:M34) -> 1824.2081
A35: 2021년 | B35: 2014.925 | C35: 2085.75 | D35: 1960.7609 | E35: 2006.325 | F35: 2185.9211 | G35: 2188.9773 | H35: 2336.98 | I35: 2428.52 | J35: 2257.25 | K35: ='Pb 가격및재고'!N6246 -> 2339.4524 | L35: ='Pb 가격및재고'!N6269 -> 2347.5682 | M35: ='Pb 가격및재고'!N6293 -> 2304.7857 | N35: =AVERAGE(B35:M35) -> 2204.768
A36: 2022년 | B36: 2342.7 | C36: ='Pb 가격및재고'!N6336 -> 2299.9 | D36: ='Pb 가격및재고'!N6360 -> 2359.4783 | E36: 2396.74 | F36: 2145.17 | G36: 2067.38 | H36: 1976.26 | I36: 2077.91 | J36: 1874.45 | K36: 1988.1 | L36: 2099.3864 | M36: 2212.475 | N36: =AVERAGE(B36:M36) -> 2153.3291
A37: 2023년 | B37: 2208.1667 | C37: 2098.9 | D37: 2114.7826 | E37: 2149.1389 | F37: 2087.5 | G37: 2118.36 | H37: 2079.5625 | N37: =AVERAGE(B37:M37) -> 2122.3444
A38: 전월대비 | B38: =B37-M36 -> -4.3083333 | C38: =C37-B37 -> -109.26667 | D38: =D37-C37 -> 15.882609 | E38: =E37-D37 -> 34.35628 | F38: =F37-E37 -> -61.638889 | G38: =G37-F37 -> 30.86 | H38: =H37-G37 -> -38.7975
A40: 2. CURRENCY (TT/S) AVERAGE - 외환은행 고시환율 (송금 전신환_보낼 때)
A41: 구분 | B41: 1월 | C41: 2월 | D41: 3월 | E41: 4월 | F41: 5월 | G41: 6월 | H41: 7월 | I41: 8월 | J41: 9월 | K41: 10월 | L41: 11월 | M41: 12월 | N41: AVG
A42: 2005년 | B42: 1048.36 | C42: 1032.39 | D42: 1017.32 | E42: 1020.8 | F42: 1012 | G42: 1020.73 | H42: 1047.55 | I42: 1031.13 | J42: 1039.36 | K42: 1056.45 | L42: 1051.59 | M42: 1034.14 | N42: =AVERAGE(B42:M42) -> 1034.3183
A43: 2006년 | B43: 996.65 | C43: 979.68 | D43: 984.6 | E43: 963.74 | F43: 950.58 | G43: 964.47 | H43: 959.42 | I43: 970.09 | J43: 962.96 | K43: 963.52 | L43: 945.35 | M43: 934.77 | N43: =AVERAGE(B43:M43) -> 964.6525
A44: 2007년 | B44: 945.48 | C44: 946.14 | D44: 952.44 | E44: 940.58 | F44: 936.96 | G44: 937.35 | H44: 927.8 | I44: 942.91 | J44: 941.49 | K44: 924.76 | L44: 925.9 | M44: 939.31 | N44: =AVERAGE(B44:M44) -> 938.42667
...

Sheet Sn 월별평균

Sheet Sheet1
A3: LME PRICE SIMULATION
A5: 9/13일 기준
A6: LME PRICE | B6: 2000 | C6: 2050 | D6: 2100 | E6: 2150 | F6: 2200 | G6: 2250 | H6: 2300 | I6: 2350
A7: YTD | B7: 1999.6 | C7: 2014.76 | D7: 2029.92 | E7: 2045.07 | F7: 2060.23 | G7: 2075.39 | H7: 2090.55 | I7: 2105.7
A9: 1. 9/14일 ~ 12/31일까지 상기 LME 가격을 유지할 경우 예상되는 YTD
A10: 2. LME 일자는 실제 시장 오픈 일자와 동일함.
